{"text_format":"1","workbook":"xlsx","n_sheets":7,"sheets":["Leaderboard","August","September","October","Ten Point Table","Mini Leagues","Jokers"],"not_rendered":{"charts":0,"images":8,"macros":1,"external_links":0,"defined_names":0,"comments":0,"pivot_tables":0},"unopened":[],"bounds":{"document_bytes":16777216,"sheet_cells":100000,"rows_first":2000,"rows_last":500,"rows_between":2000,"halvings":0,"cell_chars":16384,"cell_head_chars":4096},"cells_cut":0,"cells_raw":0,"read":"whole","date_system":"1900"}

{"sheet":"Leaderboard","index":0,"n_rows":65,"n_cols":14,"rows_kept":65,"cut":false,"hidden":false,"merged":[]}
[]
[]
[]
[]
["No.","Name","Team Name","2019-08-01","2019-09-01","2019-10-01","2019-11-01","2019-12-01","2020-01-01","2020-02-01","2020-03-01","2020-04-01","2020-05-01","Total Pts"]
[1,"Anastas Popov","Super Saints",{"$f":"HLOOKUP(B6,August!$I$1:$BP$87,87,FALSE)","v":173},{"$f":"HLOOKUP(B6,September!$I$1:$BP$81,81,FALSE)","v":134},{"$f":"HLOOKUP(B6,October!$I$1:$BP$57,57,FALSE)","v":25},null,null,null,null,null,null,null,{"$f":"SUM(D6:M6)","v":332}]
[2,"Eamon Fox","It's Never Over, Never Really Over",{"$f":"HLOOKUP(B7,August!$I$1:$BP$87,87,FALSE)","v":157},{"$f":"HLOOKUP(B7,September!$I$1:$BP$81,81,FALSE)","v":124},{"$f":"HLOOKUP(B7,October!$I$1:$BP$57,57,FALSE)","v":25},null,null,null,null,null,null,null,{"$f":"SUM(D7:M7)","v":306}]
[3,"Sean O'Mairtin","Creweless",{"$f":"HLOOKUP(B8,August!$I$1:$BP$87,87,FALSE)","v":161},{"$f":"HLOOKUP(B8,September!$I$1:$BP$81,81,FALSE)","v":118},{"$f":"HLOOKUP(B8,October!$I$1:$BP$57,57,FALSE)","v":20},null,null,null,null,null,null,null,{"$f":"SUM(D8:M8)","v":299}]
[4,"Gary Fitzpatrick","Sun's Out Gunn's Out",{"$f":"HLOOKUP(B9,August!$I$1:$BP$87,87,FALSE)","v":113},{"$f":"HLOOKUP(B9,September!$I$1:$BP$81,81,FALSE)","v":165},{"$f":"HLOOKUP(B9,October!$I$1:$BP$57,57,FALSE)","v":20},null,null,null,null,null,null,null,{"$f":"SUM(D9:M9)","v":298}]
[5,"Con McSweeney","Dowtcha Boys",{"$f":"HLOOKUP(B10,August!$I$1:$BP$87,87,FALSE)","v":138},{"$f":"HLOOKUP(B10,September!$I$1:$BP$81,81,FALSE)","v":134},{"$f":"HLOOKUP(B10,October!$I$1:$BP$57,57,FALSE)","v":20},null,null,null,null,null,null,null,{"$f":"SUM(D10:M10)","v":292}]
[6,"Ralph Goodwin","Gorey Celtic Stars",{"$f":"HLOOKUP(B11,August!$I$1:$BP$87,87,FALSE)","v":164},{"$f":"HLOOKUP(B11,September!$I$1:$BP$81,81,FALSE)","v":96},{"$f":"HLOOKUP(B11,October!$I$1:$BP$57,57,FALSE)","v":30},null,null,null,null,null,null,null,{"$f":"SUM(D11:M11)","v":290}]
[7,"Gerard McCluskey","Breffni Blues 2019",{"$f":"HLOOKUP(B12,August!$I$1:$BP$87,87,FALSE)","v":113},{"$f":"HLOOKUP(B12,September!$I$1:$BP$81,81,FALSE)","v":133},{"$f":"HLOOKUP(B12,October!$I$1:$BP$57,57,FALSE)","v":40},null,null,null,null,null,null,null,{"$f":"SUM(D12:M12)","v":286}]
[8,"Wayne Donovan","Deprive The Five",{"$f":"HLOOKUP(B13,August!$I$1:$BP$87,87,FALSE)","v":154},{"$f":"HLOOKUP(B13,September!$I$1:$BP$81,81,FALSE)","v":96},{"$f":"HLOOKUP(B13,October!$I$1:$BP$57,57,FALSE)","v":35},null,null,null,null,null,null,null,{"$f":"SUM(D13:M13)","v":285}]
[9,"John Brophy","Carrig Combo",{"$f":"HLOOKUP(B14,August!$I$1:$BP$87,87,FALSE)","v":131},{"$f":"HLOOKUP(B14,September!$I$1:$BP$81,81,FALSE)","v":113},{"$f":"HLOOKUP(B14,October!$I$1:$BP$57,57,FALSE)","v":40},null,null,null,null,null,null,null,{"$f":"SUM(D14:M14)","v":284}]
[10,"Brendan Maguire","Cantthinkofone",{"$f":"HLOOKUP(B15,August!$I$1:$BP$87,87,FALSE)","v":141},{"$f":"HLOOKUP(B15,September!$I$1:$BP$81,81,FALSE)","v":124},{"$f":"HLOOKUP(B15,October!$I$1:$BP$57,57,FALSE)","v":15},null,null,null,null,null,null,null,{"$f":"SUM(D15:M15)","v":280}]
[11,"Roisin Joyce","LCR FC",{"$f":"HLOOKUP(B16,August!$I$1:$BP$87,87,FALSE)","v":121},{"$f":"HLOOKUP(B16,September!$I$1:$BP$81,81,FALSE)","v":136},{"$f":"HLOOKUP(B16,October!$I$1:$BP$57,57,FALSE)","v":22},null,null,null,null,null,null,null,{"$f":"SUM(D16:M16)","v":279}]
[12,"Damien Martin","Rath Rovers",{"$f":"HLOOKUP(B17,August!$I$1:$BP$87,87,FALSE)","v":131},{"$f":"HLOOKUP(B17,September!$I$1:$BP$81,81,FALSE)","v":121},{"$f":"HLOOKUP(B17,October!$I$1:$BP$57,57,FALSE)","v":25},null,null,null,null,null,null,null,{"$f":"SUM(D17:M17)","v":277}]
[13,"Ciaran O'Hart","Riverchapel Plate",{"$f":"HLOOKUP(B18,August!$I$1:$BP$87,87,FALSE)","v":129},{"$f":"HLOOKUP(B18,September!$I$1:$BP$81,81,FALSE)","v":131},{"$f":"HLOOKUP(B18,October!$I$1:$BP$57,57,FALSE)","v":15},null,null,null,null,null,null,null,{"$f":"SUM(D18:M18)","v":275}]
[14,"Bobby Hynes","Born To Run",{"$f":"HLOOKUP(B19,August!$I$1:$BP$87,87,FALSE)","v":140},{"$f":"HLOOKUP(B19,September!$I$1:$BP$81,81,FALSE)","v":109},{"$f":"HLOOKUP(B19,October!$I$1:$BP$57,57,FALSE)","v":25},null,null,null,null,null,null,null,{"$f":"SUM(D19:M19)","v":274}]
[15,"Declan O'Neill","Athletico Spurs",{"$f":"HLOOKUP(B20,August!$I$1:$BP$87,87,FALSE)","v":148},{"$f":"HLOOKUP(B20,September!$I$1:$BP$81,81,FALSE)","v":115},{"$f":"HLOOKUP(B20,October!$I$1:$BP$57,57,FALSE)","v":10},null,null,null,null,null,null,null,{"$f":"SUM(D20:M20)","v":273}]
[16,"Callum Dunne","Seattle Sound Lads",{"$f":"HLOOKUP(B21,August!$I$1:$BP$87,87,FALSE)","v":128},{"$f":"HLOOKUP(B21,September!$I$1:$BP$81,81,FALSE)","v":114},{"$f":"HLOOKUP(B21,October!$I$1:$BP$57,57,FALSE)","v":30},null,null,null,null,null,null,null,{"$f":"SUM(D21:M21)","v":272}]
[17,"Brian Prendergast","Magical Mustafi",{"$f":"HLOOKUP(B22,August!$I$1:$BP$87,87,FALSE)","v":130},{"$f":"HLOOKUP(B22,September!$I$1:$BP$81,81,FALSE)","v":120},{"$f":"HLOOKUP(B22,October!$I$1:$BP$57,57,FALSE)","v":20},null,null,null,null,null,null,null,{"$f":"SUM(D22:M22)","v":270}]
[18,"Paul Moore","TAA LAA",{"$f":"HLOOKUP(B23,August!$I$1:$BP$87,87,FALSE)","v":134},{"$f":"HLOOKUP(B23,September!$I$1:$BP$81,81,FALSE)","v":111},{"$f":"HLOOKUP(B23,October!$I$1:$BP$57,57,FALSE)","v":25},null,null,null,null,null,null,null,{"$f":"SUM(D23:M23)","v":270}]
[19,"Gary McGurk","Origi In Madrid",{"$f":"HLOOKUP(B24,August!$I$1:$BP$87,87,FALSE)","v":141},{"$f":"HLOOKUP(B24,September!$I$1:$BP$81,81,FALSE)","v":112},{"$f":"HLOOKUP(B24,October!$I$1:$BP$57,57,FALSE)","v":15},null,null,null,null,null,null,null,{"$f":"SUM(D24:M24)","v":268}]
[20,"Matthew Lynch","The Village Idiots",{"$f":"HLOOKUP(B25,August!$I$1:$BP$87,87,FALSE)","v":136},{"$f":"HLOOKUP(B25,September!$I$1:$BP$81,81,FALSE)","v":112},{"$f":"HLOOKUP(B25,October!$I$1:$BP$57,57,FALSE)","v":20},null,null,null,null,null,null,null,{"$f":"SUM(D25:M25)","v":268}]
[21,"Craig Calvert","United Manchester FC",{"$f":"HLOOKUP(B26,August!$I$1:$BP$87,87,FALSE)","v":140},{"$f":"HLOOKUP(B26,September!$I$1:$BP$81,81,FALSE)","v":104},{"$f":"HLOOKUP(B26,October!$I$1:$BP$57,57,FALSE)","v":20},null,null,null,null,null,null,null,{"$f":"SUM(D26:M26)","v":264}]
[22,"Kevin Philpott","Kevlaar",{"$f":"HLOOKUP(B27,August!$I$1:$BP$87,87,FALSE)","v":111},{"$f":"HLOOKUP(B27,September!$I$1:$BP$81,81,FALSE)","v":133},{"$f":"HLOOKUP(B27,October!$I$1:$BP$57,57,FALSE)","v":20},null,null,null,null,null,null,null,{"$f":"SUM(D27:M27)","v":264}]
[23,"Chris Keohan","Moves Like Agger",{"$f":"HLOOKUP(B28,August!$I$1:$BP$87,87,FALSE)","v":148},{"$f":"HLOOKUP(B28,September!$I$1:$BP$81,81,FALSE)","v":94},{"$f":"HLOOKUP(B28,October!$I$1:$BP$57,57,FALSE)","v":20},null,null,null,null,null,null,null,{"$f":"SUM(D28:M28)","v":262}]
[24,"Joe Turner","The Joy of Six",{"$f":"HLOOKUP(B29,August!$I$1:$BP$87,87,FALSE)","v":138},{"$f":"HLOOKUP(B29,September!$I$1:$BP$81,81,FALSE)","v":99},{"$f":"HLOOKUP(B29,October!$I$1:$BP$57,57,FALSE)","v":25},null,null,null,null,null,null,null,{"$f":"SUM(D29:M29)","v":262}]
[25,"Jonathan Fox","Klopp Of The League",{"$f":"HLOOKUP(B30,August!$I$1:$BP$87,87,FALSE)","v":138},{"$f":"HLOOKUP(B30,September!$I$1:$BP$81,81,FALSE)","v":94},{"$f":"HLOOKUP(B30,October!$I$1:$BP$57,57,FALSE)","v":30},null,null,null,null,null,null,null,{"$f":"SUM(D30:M30)","v":262}]
[26,"David Cooney","Lifeafterhazard",{"$f":"HLOOKUP(B31,August!$I$1:$BP$87,87,FALSE)","v":111},{"$f":"HLOOKUP(B31,September!$I$1:$BP$81,81,FALSE)","v":130},{"$f":"HLOOKUP(B31,October!$I$1:$BP$57,57,FALSE)","v":20},null,null,null,null,null,null,null,{"$f":"SUM(D31:M31)","v":261}]
[27,"Niall Carroll","Dejan 6",{"$f":"HLOOKUP(B32,August!$I$1:$BP$87,87,FALSE)","v":116},{"$f":"HLOOKUP(B32,September!$I$1:$BP$81,81,FALSE)","v":128},{"$f":"HLOOKUP(B32,October!$I$1:$BP$57,57,FALSE)","v":15},null,null,null,null,null,null,null,{"$f":"SUM(D32:M32)","v":259}]
[28,"Philip Jordan","Frankie's Army",{"$f":"HLOOKUP(B33,August!$I$1:$BP$87,87,FALSE)","v":136},{"$f":"HLOOKUP(B33,September!$I$1:$BP$81,81,FALSE)","v":83},{"$f":"HLOOKUP(B33,October!$I$1:$BP$57,57,FALSE)","v":40},null,null,null,null,null,null,null,{"$f":"SUM(D33:M33)","v":259}]
[29,"Anthony Michaels","Offside Ref",{"$f":"HLOOKUP(B34,August!$I$1:$BP$87,87,FALSE)","v":123},{"$f":"HLOOKUP(B34,September!$I$1:$BP$81,81,FALSE)","v":94},{"$f":"HLOOKUP(B34,October!$I$1:$BP$57,57,FALSE)","v":40},null,null,null,null,null,null,null,{"$f":"SUM(D34:M34)","v":257}]
[30,"Caroline Carroll","Mane 10",{"$f":"HLOOKUP(B35,August!$I$1:$BP$87,87,FALSE)","v":138},{"$f":"HLOOKUP(B35,September!$I$1:$BP$81,81,FALSE)","v":99},{"$f":"HLOOKUP(B35,October!$I$1:$BP$57,57,FALSE)","v":20},null,null,null,null,null,null,null,{"$f":"SUM(D35:M35)","v":257}]
[31,"Gerry Moore","Unai Has The Pepe In His Step",{"$f":"HLOOKUP(B36,August!$I$1:$BP$87,87,FALSE)","v":121},{"$f":"HLOOKUP(B36,September!$I$1:$BP$81,81,FALSE)","v":121},{"$f":"HLOOKUP(B36,October!$I$1:$BP$57,57,FALSE)","v":15},null,null,null,null,null,null,null,{"$f":"SUM(D36:M36)","v":257}]
[32,"Dave McGinley","Reservoir Dubs",{"$f":"HLOOKUP(B37,August!$I$1:$BP$87,87,FALSE)","v":115},{"$f":"HLOOKUP(B37,September!$I$1:$BP$81,81,FALSE)","v":121},{"$f":"HLOOKUP(B37,October!$I$1:$BP$57,57,FALSE)","v":20},null,null,null,null,null,null,null,{"$f":"SUM(D37:M37)","v":256}]
[33,"Micheal Joyce","At Last 2019",{"$f":"HLOOKUP(B38,August!$I$1:$BP$87,87,FALSE)","v":121},{"$f":"HLOOKUP(B38,September!$I$1:$BP$81,81,FALSE)","v":118},{"$f":"HLOOKUP(B38,October!$I$1:$BP$57,57,FALSE)","v":15},null,null,null,null,null,null,null,{"$f":"SUM(D38:M38)","v":254}]
[34,"Brian Haughton","The Wexicans",{"$f":"HLOOKUP(B39,August!$I$1:$BP$87,87,FALSE)","v":118},{"$f":"HLOOKUP(B39,September!$I$1:$BP$81,81,FALSE)","v":109},{"$f":"HLOOKUP(B39,October!$I$1:$BP$57,57,FALSE)","v":25},null,null,null,null,null,null,null,{"$f":"SUM(D39:M39)","v":252}]
[35,"Gavin Morgan","Aimless Wanderers",{"$f":"HLOOKUP(B40,August!$I$1:$BP$87,87,FALSE)","v":123},{"$f":"HLOOKUP(B40,September!$I$1:$BP$81,81,FALSE)","v":104},{"$f":"HLOOKUP(B40,October!$I$1:$BP$57,57,FALSE)","v":25},null,null,null,null,null,null,null,{"$f":"SUM(D40:M40)","v":252}]
[36,"Javier Suarez","Tika Taka",{"$f":"HLOOKUP(B41,August!$I$1:$BP$87,87,FALSE)","v":125},{"$f":"HLOOKUP(B41,September!$I$1:$BP$81,81,FALSE)","v":79},{"$f":"HLOOKUP(B41,October!$I$1:$BP$57,57,FALSE)","v":45},null,null,null,null,null,null,null,{"$f":"SUM(D41:M41)","v":249}]
[37,"Karl Boland","Boaty McBoatface FC",{"$f":"HLOOKUP(B42,August!$I$1:$BP$87,87,FALSE)","v":121},{"$f":"HLOOKUP(B42,September!$I$1:$BP$81,81,FALSE)","v":113},{"$f":"HLOOKUP(B42,October!$I$1:$BP$57,57,FALSE)","v":15},null,null,null,null,null,null,null,{"$f":"SUM(D42:M42)","v":249}]
[38,"Gerry Draper","Everton10",{"$f":"HLOOKUP(B43,August!$I$1:$BP$87,87,FALSE)","v":118},{"$f":"HLOOKUP(B43,September!$I$1:$BP$81,81,FALSE)","v":99},{"$f":"HLOOKUP(B43,October!$I$1:$BP$57,57,FALSE)","v":30},null,null,null,null,null,null,null,{"$f":"SUM(D43:M43)","v":247}]
[39,"Phil Doyle","FC Muertos Errantes",{"$f":"HLOOKUP(B44,August!$I$1:$BP$87,87,FALSE)","v":135},{"$f":"HLOOKUP(B44,September!$I$1:$BP$81,81,FALSE)","v":96},{"$f":"HLOOKUP(B44,October!$I$1:$BP$57,57,FALSE)","v":15},null,null,null,null,null,null,null,{"$f":"SUM(D44:M44)","v":246}]
[40,"Gary Donnelly","Storm A Brewstering….",{"$f":"HLOOKUP(B45,August!$I$1:$BP$87,87,FALSE)","v":131},{"$f":"HLOOKUP(B45,September!$I$1:$BP$81,81,FALSE)","v":93},{"$f":"HLOOKUP(B45,October!$I$1:$BP$57,57,FALSE)","v":20},null,null,null,null,null,null,null,{"$f":"SUM(D45:M45)","v":244}]
[41,"Joe Behan","Melchester Rovers",{"$f":"HLOOKUP(B46,August!$I$1:$BP$87,87,FALSE)","v":119},{"$f":"HLOOKUP(B46,September!$I$1:$BP$81,81,FALSE)","v":108},{"$f":"HLOOKUP(B46,October!$I$1:$BP$57,57,FALSE)","v":15},null,null,null,null,null,null,null,{"$f":"SUM(D46:M46)","v":242}]
[42,"Trevor Byrne","Noddys 11",{"$f":"HLOOKUP(B47,August!$I$1:$BP$87,87,FALSE)","v":103},{"$f":"HLOOKUP(B47,September!$I$1:$BP$81,81,FALSE)","v":116},{"$f":"HLOOKUP(B47,October!$I$1:$BP$57,57,FALSE)","v":22},null,null,null,null,null,null,null,{"$f":"SUM(D47:M47)","v":241}]
[43,"Simon Scanlon","Taking It Serious This Year",{"$f":"HLOOKUP(B48,August!$I$1:$BP$87,87,FALSE)","v":136},{"$f":"HLOOKUP(B48,September!$I$1:$BP$81,81,FALSE)","v":92},{"$f":"HLOOKUP(B48,October!$I$1:$BP$57,57,FALSE)","v":10},null,null,null,null,null,null,null,{"$f":"SUM(D48:M48)","v":238}]
[44,"Barry McGoldrick","The Blarney Pilgrims",{"$f":"HLOOKUP(B49,August!$I$1:$BP$87,87,FALSE)","v":98},{"$f":"HLOOKUP(B49,September!$I$1:$BP$81,81,FALSE)","v":114},{"$f":"HLOOKUP(B49,October!$I$1:$BP$57,57,FALSE)","v":25},null,null,null,null,null,null,null,{"$f":"SUM(D49:M49)","v":237}]
[45,"Brian Mullen","Where's Tony Galvin Now?",{"$f":"HLOOKUP(B50,August!$I$1:$BP$87,87,FALSE)","v":123},{"$f":"HLOOKUP(B50,September!$I$1:$BP$81,81,FALSE)","v":104},{"$f":"HLOOKUP(B50,October!$I$1:$BP$57,57,FALSE)","v":10},null,null,null,null,null,null,null,{"$f":"SUM(D50:M50)","v":237}]
[46,"Liam Geraghty","What Shade of Blue?",{"$f":"HLOOKUP(B51,August!$I$1:$BP$87,87,FALSE)","v":118},{"$f":"HLOOKUP(B51,September!$I$1:$BP$81,81,FALSE)","v":99},{"$f":"HLOOKUP(B51,October!$I$1:$BP$57,57,FALSE)","v":20},null,null,null,null,null,null,null,{"$f":"SUM(D51:M51)","v":237}]
[47,"Liam Keohan","Irish Gunner",{"$f":"HLOOKUP(B52,August!$I$1:$BP$87,87,FALSE)","v":105},{"$f":"HLOOKUP(B52,September!$I$1:$BP$81,81,FALSE)","v":114},{"$f":"HLOOKUP(B52,October!$I$1:$BP$57,57,FALSE)","v":15},null,null,null,null,null,null,null,{"$f":"SUM(D52:M52)","v":234}]
[48,"Richard Johnston","Ba Mhaith Liom Cupan Tae",{"$f":"HLOOKUP(B53,August!$I$1:$BP$87,87,FALSE)","v":121},{"$f":"HLOOKUP(B53,September!$I$1:$BP$81,81,FALSE)","v":81},{"$f":"HLOOKUP(B53,October!$I$1:$BP$57,57,FALSE)","v":32},null,null,null,null,null,null,null,{"$f":"SUM(D53:M53)","v":234}]
[49,"Aidan Scanlon","Kilflynn Santos",{"$f":"HLOOKUP(B54,August!$I$1:$BP$87,87,FALSE)","v":90},{"$f":"HLOOKUP(B54,September!$I$1:$BP$81,81,FALSE)","v":127},{"$f":"HLOOKUP(B54,October!$I$1:$BP$57,57,FALSE)","v":15},null,null,null,null,null,null,null,{"$f":"SUM(D54:M54)","v":232}]
[50,"Graham Goodwin","Pochettino's Parrot",{"$f":"HLOOKUP(B55,August!$I$1:$BP$87,87,FALSE)","v":88},{"$f":"HLOOKUP(B55,September!$I$1:$BP$81,81,FALSE)","v":118},{"$f":"HLOOKUP(B55,October!$I$1:$BP$57,57,FALSE)","v":25},null,null,null,null,null,null,null,{"$f":"SUM(D55:M55)","v":231}]
[51,"Paul Prendergast","The Untouchables",{"$f":"HLOOKUP(B56,August!$I$1:$BP$87,87,FALSE)","v":126},{"$f":"HLOOKUP(B56,September!$I$1:$BP$81,81,FALSE)","v":78},{"$f":"HLOOKUP(B56,October!$I$1:$BP$57,57,FALSE)","v":25},null,null,null,null,null,null,null,{"$f":"SUM(D56:M56)","v":229}]
[52,"Frank McSweeney","Poolabu",{"$f":"HLOOKUP(B57,August!$I$1:$BP$87,87,FALSE)","v":128},{"$f":"HLOOKUP(B57,September!$I$1:$BP$81,81,FALSE)","v":84},{"$f":"HLOOKUP(B57,October!$I$1:$BP$57,57,FALSE)","v":15},null,null,null,null,null,null,null,{"$f":"SUM(D57:M57)","v":227}]
[53,"Kris Stainton","Ole's Revolutionaries",{"$f":"HLOOKUP(B58,August!$I$1:$BP$87,87,FALSE)","v":116},{"$f":"HLOOKUP(B58,September!$I$1:$BP$81,81,FALSE)","v":100},{"$f":"HLOOKUP(B58,October!$I$1:$BP$57,57,FALSE)","v":10},null,null,null,null,null,null,null,{"$f":"SUM(D58:M58)","v":226}]
[54,"Aidan White","Return of the Villans",{"$f":"HLOOKUP(B59,August!$I$1:$BP$87,87,FALSE)","v":104},{"$f":"HLOOKUP(B59,September!$I$1:$BP$81,81,FALSE)","v":96},{"$f":"HLOOKUP(B59,October!$I$1:$BP$57,57,FALSE)","v":25},null,null,null,null,null,null,null,{"$f":"SUM(D59:M59)","v":225}]
[55,"Andy Dunne","Matipswich Town",{"$f":"HLOOKUP(B60,August!$I$1:$BP$87,87,FALSE)","v":90},{"$f":"HLOOKUP(B60,September!$I$1:$BP$81,81,FALSE)","v":104},{"$f":"HLOOKUP(B60,October!$I$1:$BP$57,57,FALSE)","v":30},null,null,null,null,null,null,null,{"$f":"SUM(D60:M60)","v":224}]
[56,"Aiden Desch","NumNuts",{"$f":"HLOOKUP(B61,August!$I$1:$BP$87,87,FALSE)","v":119},{"$f":"HLOOKUP(B61,September!$I$1:$BP$81,81,FALSE)","v":75},{"$f":"HLOOKUP(B61,October!$I$1:$BP$57,57,FALSE)","v":25},null,null,null,null,null,null,null,{"$f":"SUM(D61:M61)","v":219}]
[57,"Victoria Reid","Tristan's Titans",{"$f":"HLOOKUP(B62,August!$I$1:$BP$87,87,FALSE)","v":109},{"$f":"HLOOKUP(B62,September!$I$1:$BP$81,81,FALSE)","v":95},{"$f":"HLOOKUP(B62,October!$I$1:$BP$57,57,FALSE)","v":15},null,null,null,null,null,null,null,{"$f":"SUM(D62:M62)","v":219}]
[58,"Darragh Kenny","Luca Connell CSC",{"$f":"HLOOKUP(B63,August!$I$1:$BP$87,87,FALSE)","v":118},{"$f":"HLOOKUP(B63,September!$I$1:$BP$81,81,FALSE)","v":85},{"$f":"HLOOKUP(B63,October!$I$1:$BP$57,57,FALSE)","v":15},null,null,null,null,null,null,null,{"$f":"SUM(D63:M63)","v":218}]
[59,"Mai-Ly Turner","Mo The Magnificent",{"$f":"HLOOKUP(B64,August!$I$1:$BP$87,87,FALSE)","v":123},{"$f":"HLOOKUP(B64,September!$I$1:$BP$81,81,FALSE)","v":74},{"$f":"HLOOKUP(B64,October!$I$1:$BP$57,57,FALSE)","v":20},null,null,null,null,null,null,null,{"$f":"SUM(D64:M64)","v":217}]
[60,"Eoghan Farrelly","Last Chance Saloon",{"$f":"HLOOKUP(B65,August!$I$1:$BP$87,87,FALSE)","v":112},{"$f":"HLOOKUP(B65,September!$I$1:$BP$81,81,FALSE)","v":75},{"$f":"HLOOKUP(B65,October!$I$1:$BP$57,57,FALSE)","v":25},null,null,null,null,null,null,null,{"$f":"SUM(D65:M65)","v":212}]

{"sheet":"August","index":1,"n_rows":89,"n_cols":68,"rows_kept":89,"cut":false,"hidden":false,"merged":[[1,2,1,5]]}
[null,null,null,null,null,null,null,null,"Aidan Scanlon","Aidan White","Aiden Desch","Anastas Popov","Andy Dunne","Anthony Michaels","Barry McGoldrick","Bobby Hynes","Brendan Maguire","Brian Haughton","Brian Mullen","Brian Prendergast","Callum Dunne","Caroline Carroll","Chris Keohan","Ciaran O'Hart","Con McSweeney","Craig Calvert","Damien Martin","Darragh Kenny","Dave McGinley","David Cooney","Declan O'Neill","Eamon Fox","Eoghan Farrelly","Frank McSweeney","Gary Donnelly","Gary Fitzpatrick","Gary McGurk","Gavin Morgan","Gerard McCluskey","Gerry Draper","Gerry Moore","Graham Goodwin","Javier Suarez","Joe Behan","Joe Turner","John Brophy","Jonathan Fox","Karl Boland","Kevin Philpott","Kris Stainton","Liam Geraghty","Liam Keohan","Mai-Ly Turner","Matthew Lynch","Micheal Joyce","Niall Carroll","Paul Moore","Paul Prendergast","Phil Doyle","Philip Jordan","Ralph Goodwin","Richard Johnston","Roisin Joyce","Sean O'Mairtin","Simon Scanlon","Trevor Byrne","Victoria Reid","Wayne Donovan"]
["Day","Date","Teams",null,null,null,"Time"]
["Fri","2019-08-09","Liverpool",4,1,"Norwich City","20:00:00",null,5,5,5,5,5,5,5,5,5,5,5,5,5,5,5,5,5,5,5,5,5,5,5,5,5,5,5,5,5,5,5,5,5,5,5,10,5,5,5,5,5,5,5,5,5,5,5,5,5,5,5,5,5,5,5,5,5,5,5,5]
["Sat","2019-08-10","West Ham",0,5,"Man City","12:30:00",null,5,5,5,5,5,5,5,5,5,5,5,5,5,5,5,0,5,5,5,5,5,5,5,5,5,5,5,5,5,5,5,5,5,5,5,5,5,5,5,5,5,5,5,5,5,5,0,5,5,5,5,5,5,5,5,5,5,5,5,5]
["Sat","2019-08-10","Bournemouth",1,1,"Sheffield United","15:00:00",null,0,0,0,10,0,10,5,0,10,0,10,10,0,0,0,0,10,0,0,5,0,0,0,10,0,10,5,0,0,0,10,0,0,0,0,10,0,0,0,0,0,0,0,0,0,10,0,0,10,0,0,10,0,0,0,0,10,0,0,0]
["Sat","2019-08-10","Burnley",3,0,"Southampton","15:00:00",null,0,0,0,5,5,5,0,0,5,0,5,5,0,0,0,5,5,5,0,0,0,0,0,0,0,0,5,0,0,5,5,5,0,0,0,0,5,5,5,0,0,5,0,0,0,0,0,0,0,5,0,0,5,0,5,5,5,0,5,5]
["Sat","2019-08-10","Crystal Palace",0,0,"Everton","15:00:00",null,0,0,0,5,0,0,0,5,5,5,0,0,0,0,0,0,5,0,0,0,5,0,5,0,0,0,0,5,10,5,5,0,5,0,0,0,5,5,0,0,0,0,0,0,5,0,0,0,0,5,0,0,5,0,0,0,0,0,5,5]
["Sat","2019-08-10","Watford",0,3,"Brighton","15:00:00",null,0,5,0,0,0,0,0,0,0,0,0,0,0,0,0,0,0,0,0,0,0,0,0,0,0,0,0,0,0,0,0,0,0,0,0,0,0,0,0,0,0,0,0,0,0,0,0,0,0,0,0,0,0,0,0,0,0,0,0,0]
["Sat","2019-08-10","Tottenham",3,1,"Aston Villa","17:30:00",null,5,0,5,5,5,10,5,5,10,5,5,5,10,5,10,5,5,10,10,10,5,10,5,5,5,10,5,5,5,5,5,5,10,5,10,5,5,5,5,5,5,5,5,5,5,10,10,5,5,5,5,5,5,5,5,10,5,5,5,5]
["Sun","2019-08-11","Leicester City",0,0,"Wolves","14:00:00",null,0,5,5,5,0,0,0,0,0,0,0,5,0,0,0,5,5,5,5,0,5,0,5,0,0,0,5,5,0,0,0,0,0,0,0,5,5,0,0,0,5,5,5,0,5,5,0,5,0,5,0,5,0,0,0,5,5,0,0,5]
["Sun","2019-08-11","Newcastle United",0,1,"Arsenal","14:00:00",null,0,5,5,5,5,0,10,5,5,0,5,5,10,5,5,0,5,5,5,5,5,0,5,5,5,5,5,5,0,10,5,5,0,5,5,5,5,5,10,5,5,5,5,5,5,5,5,5,5,5,5,5,5,5,5,5,5,5,5,5]
["Sun","2019-08-11","Man United",4,0,"Chelsea","16:30:00",null,0,0,0,0,0,0,0,5,5,5,0,0,0,0,0,0,0,5,5,0,5,0,0,0,0,0,5,0,0,5,0,0,5,0,5,5,0,0,0,5,5,5,0,5,0,0,0,5,0,0,5,5,5,5,0,5,5,0,5,0]
["Sat","2019-08-17","Arsenal",2,1,"Burnley","12:30:00",null,10,5,0,5,5,5,5,5,5,5,5,5,5,5,5,5,5,5,5,5,5,10,5,5,5,10,5,5,5,5,10,10,10,5,5,5,5,5,5,5,5,10,10,5,10,5,10,5,0,5,5,5,5,5,5,10,5,5,5,10]
["Sat","2019-08-17","Aston Villa",1,2,"Bournemouth","15:00:00",null,0,0,0,0,0,0,5,0,0,0,0,0,0,0,0,0,0,0,0,0,0,0,0,0,0,0,0,0,0,0,5,0,0,0,5,0,0,0,0,0,0,0,0,0,0,0,0,0,0,0,0,0,0,0,0,0,0,10,0,0]
["Sat","2019-08-17","Brighton",1,1,"West Ham","15:00:00",null,0,0,10,10,0,0,0,10,10,0,0,10,0,0,0,10,0,0,0,0,0,10,10,10,0,10,0,0,10,0,0,0,0,0,5,5,0,0,0,0,0,0,0,0,0,0,10,0,0,0,10,10,0,0,10,5,10,0,0,10]
["Sat","2019-08-17","Everton",1,0,"Watford","15:00:00",null,5,10,5,5,5,0,0,5,5,5,5,5,0,5,0,5,5,5,5,5,5,5,5,10,5,5,0,0,5,5,5,5,5,5,5,5,10,5,10,5,5,0,5,5,5,0,5,5,0,0,0,5,10,10,5,10,5,10,5,5]
["Sat","2019-08-17","Norwich City",3,1,"Newcastle United","15:00:00",null,0,0,5,5,5,10,0,5,0,0,0,0,5,5,5,0,0,0,0,5,0,0,0,5,0,0,0,5,0,5,0,5,0,0,0,5,5,5,5,0,0,0,0,0,5,5,0,5,5,5,0,0,0,0,0,0,0,0,0,0]
["Sat","2019-08-17","Southampton",1,2,"Liverpool","15:00:00",null,5,5,5,10,5,5,5,10,5,5,5,5,10,5,5,5,5,5,5,5,10,10,10,10,5,5,5,5,5,5,5,5,5,5,5,5,10,5,10,5,5,5,5,5,0,5,5,0,5,5,5,5,5,5,5,5,10,5,5,10]
["Sat","2019-08-17","Man City",2,2,"Tottenham","17:30:00",null,0,0,5,0,0,0,0,0,0,0,0,0,0,10,0,0,0,0,0,0,0,0,10,0,0,0,0,0,0,0,0,0,10,0,0,0,0,0,0,0,0,0,0,0,0,0,0,0,0,0,10,0,0,0,10,10,0,5,0,0]
["Sun","2019-08-18","Sheffield United",1,0,"Crystal Palace","14:00:00",null,0,10,0,5,0,0,0,0,5,0,0,0,10,5,10,0,5,10,0,10,0,0,0,0,0,0,0,0,0,0,0,0,0,0,0,0,10,5,10,0,0,0,5,0,0,0,0,5,10,0,0,0,0,10,0,10,0,0,10,0]
["Sun","2019-08-18","Chelsea",1,1,"Leicester City","16:30:00",null,5,5,0,0,0,0,0,0,0,0,0,0,0,0,0,0,0,5,0,10,0,0,0,0,10,0,0,0,10,0,0,0,0,10,0,0,0,0,0,0,0,10,0,0,0,0,0,0,10,5,0,0,0,0,0,0,0,0,0,0]
["Mon","2019-08-19","Wolves",1,1,"Man United","20:00:00",null,0,0,0,10,0,10,0,10,0,0,0,10,0,5,10,0,0,0,0,0,0,0,0,0,0,10,0,0,5,10,0,10,0,0,0,0,0,10,0,0,0,0,0,0,5,5,0,0,0,10,0,0,10,0,0,0,0,0,0,10]
["Fri","2019-08-23","Aston Villa",2,0,"Everton","20:00:00",null,0,0,5,0,0,5,0,0,10,0,0,5,0,10,10,0,0,0,5,0,5,5,0,0,0,0,0,0,0,0,0,0,5,0,0,0,0,0,0,0,0,5,0,5,0,0,0,10,0,10,5,5,5,5,0,0,0,0,0,5]
["Sat","2019-08-24","Norwich City",2,3,"Chelsea","12:30:00",null,5,0,0,5,5,0,0,5,0,5,5,0,5,0,5,0,5,0,5,0,0,0,0,5,5,5,5,0,5,0,0,0,0,0,5,0,0,5,5,5,5,5,5,5,5,5,0,5,0,0,0,5,5,5,5,5,5,5,0,0]
["Sat","2019-08-24","Brighton",0,2,"Southampton","15:00:00",null,0,0,5,5,0,0,0,0,0,0,0,5,0,5,0,0,5,0,0,0,0,0,5,0,0,0,0,5,0,0,0,0,0,0,0,0,0,0,0,0,0,0,0,5,0,5,0,0,0,0,0,0,0,0,0,0,0,0,0,0]
["Sat","2019-08-24","Man United",1,2,"Crystal Palace","15:00:00",null,0,0,0,0,0,0,0,0,0,0,0,0,0,0,0,0,0,0,0,0,0,0,0,0,0,0,0,0,0,0,0,0,0,0,0,0,0,0,0,0,0,0,0,0,0,0,0,0,0,0,0,0,0,0,0,0,0,0,0,0]
["Sat","2019-08-24","Sheffield United",1,2,"Leicester City","15:00:00",null,10,0,5,5,0,0,0,10,0,0,10,0,10,5,10,0,5,10,0,0,0,0,5,5,5,0,5,10,0,5,0,0,0,10,10,0,0,0,5,5,5,0,10,5,0,10,10,0,0,5,10,10,5,0,0,0,5,0,10,0]
["Sat","2019-08-24","Watford",1,3,"West Ham","15:00:00",null,0,0,0,0,0,0,5,5,0,5,0,0,0,0,0,0,0,0,0,0,0,0,0,0,0,0,5,0,5,0,5,5,0,0,0,0,0,0,0,0,0,0,0,5,0,0,0,5,5,0,0,0,0,0,0,0,0,5,5,0]
["Sat","2019-08-24","Liverpool",3,1,"Arsenal","17:30:00","LivArs",0,5,5,5,5,5,5,5,5,10,0,5,5,5,10,5,10,10,5,5,5,5,5,10,10,10,10,5,5,10,0,5,0,5,5,5,5,0,5,10,5,0,5,0,5,5,5,0,5,5,0,5,5,5,5,5,10,5,0,5]
["Sun","2019-08-25","Bournemouth",1,3,"Man City","14:00:00","BouMac",5,5,5,5,5,0,5,5,5,10,5,5,5,5,5,10,5,5,5,5,5,5,5,5,5,5,5,5,5,5,10,5,10,5,5,5,5,5,5,5,5,5,5,5,10,5,5,5,5,5,10,5,5,5,10,10,5,10,5,10]
["Sun","2019-08-25","Tottenham",0,1,"Newcastle United","16:30:00",null,0,0,0,0,0,0,0,0,0,0,0,0,0,0,0,0,0,0,0,0,0,0,0,0,0,0,0,0,0,0,0,0,0,0,0,0,0,0,0,0,0,0,0,0,0,0,0,0,0,0,0,0,0,0,0,0,0,0,0,0]
["Sun","2019-08-25","Wolves",1,1,"Burnley","16:30:00",null,0,0,0,0,0,0,0,0,0,0,10,0,0,0,0,0,0,0,0,0,0,0,10,0,0,0,0,0,5,0,0,0,0,0,0,0,0,0,0,0,0,0,0,0,10,0,0,0,10,0,0,0,0,0,0,0,0,0,0,0]
["Sat","2019-08-31","Southampton",1,1,"Man United","12:30:00",null,0,0,0,0,0,0,0,0,0,0,0,0,10,0,0,0,0,0,0,0,0,10,10,0,0,0,0,0,10,0,0,0,10,0,0,0,10,0,0,0,0,0,0,0,5,0,0,0,10,0,0,0,10,0,0,5,0,0,0,10]
["Sat","2019-08-31","Chelsea",2,2,"Sheffield United","15:00:00",null,0,0,0,0,0,0,0,0,0,0,0,0,0,0,0,0,0,0,0,0,0,0,0,0,0,0,0,0,0,0,0,0,0,0,0,0,0,0,0,0,0,0,0,0,0,5,0,0,0,0,0,0,0,0,0,0,0,0,0,0]
["Sat","2019-08-31","Crystal Palace",1,0,"Aston Villa","15:00:00",null,0,0,5,10,5,5,5,5,0,5,0,0,5,5,0,10,0,0,5,5,10,0,5,10,0,0,5,5,10,5,10,5,0,0,0,0,5,5,10,5,0,10,0,0,5,0,0,5,0,0,0,0,5,0,0,5,5,0,0,0]
["Sat","2019-08-31","Leicester City",3,1,"Bournemouth","15:00:00",null,5,0,5,5,5,5,5,5,5,5,5,5,5,5,0,10,5,5,5,5,5,5,5,10,5,5,5,5,5,5,5,5,5,5,10,5,5,5,5,5,5,5,5,5,5,5,5,5,5,5,10,5,5,5,5,5,5,5,5,10]
["Sat","2019-08-31","Man City",4,0,"Brighton","15:00:00",null,10,5,5,5,5,5,5,5,10,5,5,5,0,5,10,5,5,5,10,5,5,10,5,5,5,5,10,5,5,5,5,5,5,5,5,5,10,5,5,5,5,5,10,10,5,5,5,10,5,10,10,10,5,5,5,5,5,5,5,5]
["Sat","2019-08-31","Newcastle United",1,1,"Watford","15:00:00",null,0,0,0,0,0,10,0,0,0,0,0,5,0,0,10,10,0,10,10,0,0,0,0,10,0,0,0,0,0,0,0,0,0,0,10,0,0,10,0,0,10,0,0,0,0,10,0,0,10,0,5,0,10,10,10,10,0,0,0,0]
["Sat","2019-08-31","West Ham",2,0,"Norwich City","15:00:00",null,0,0,10,10,0,0,5,5,5,10,5,5,0,5,5,5,10,5,5,0,0,5,0,10,5,0,5,5,0,0,5,5,5,0,0,5,0,0,5,10,5,0,5,5,0,0,5,5,0,0,5,0,10,5,0,0,5,0,0,0]
["Sat","2019-08-31","Burnley",0,3,"Liverpool","17:30:00",null,5,5,0,5,5,5,0,5,5,5,10,5,5,10,5,5,5,10,10,5,5,5,5,5,5,5,10,5,5,0,0,5,5,5,10,10,5,5,5,5,5,5,5,5,0,5,10,0,5,5,5,10,5,5,5,5,0,5,5,5]
[]
["Goalscorer #1"]
["Harry Kane - Tottenham Hotspur",null,null,{"$f":"COUNT(H43:DV43)","v":15},{"$f":"2+0+0","v":2},null,null,null,null,null,{"$f":"2*$E43","v":4},null,null,null,null,null,null,null,null,{"$f":"2*$E43","v":4},null,null,null,null,null,null,null,{"$f":"2*$E43","v":4},null,{"$f":"2*$E43","v":4},{"$f":"2*$E43","v":4},null,null,null,{"$f":"2*$E43","v":4},{"$f":"2*$E43","v":4},null,null,{"$f":"2*$E43","v":4},null,null,{"$f":"2*$E43","v":4},null,null,null,null,null,null,{"$f":"2*$E43","v":4},{"$f":"2*$E43","v":4},null,null,null,null,null,{"$f":"2*$E43","v":4},null,{"$f":"2*$E43","v":4},null,null,null,null,null,{"$f":"2*$E43","v":4},null,null,{"$f":"2*$E43","v":4}]
["Marcus Rashford - Man United",null,null,{"$f":"COUNT(H44:DV44)","v":2},{"$f":"2+0+0+0","v":2},null,null,null,{"$f":"2*$E44","v":4},null,null,null,null,null,null,null,null,null,null,null,null,null,null,null,null,null,{"$f":"2*$E44","v":4}]
["Mohamed Salah - Liverpool",null,null,22,{"$f":"1+0+2+0","v":3},null,null,null,null,null,null,{"$f":"2*$E45","v":6},{"$f":"2*$E45","v":6},{"$f":"2*$E45","v":6},{"$f":"2*$E45","v":6},{"$f":"2*$E45","v":6},null,{"$f":"2*$E45","v":6},null,null,{"$f":"2*$E45","v":6},{"$f":"2*$E45","v":6},{"$f":"2*$E45","v":6},null,null,{"$f":"2*$E45","v":6},null,null,{"$f":"2*$E45","v":6},null,null,null,null,{"$f":"2*$E45","v":6},null,null,null,{"$f":"2*$E45","v":6},null,{"$f":"2*$E45","v":6},null,null,{"$f":"2*$E45","v":6},{"$f":"2*$E45","v":6},{"$f":"2*$E45","v":6},null,{"$f":"2*$E45","v":6},null,null,null,{"$f":"2*$E45","v":6},null,{"$f":"2*$E45","v":6},null,null,null,{"$f":"2*$E45","v":6},null,{"$f":"2*$E45","v":6}]
["Pierre Emerick Aubameyang - Arsenal",null,null,8,{"$f":"1+1+0","v":2},null,null,null,null,null,null,null,null,null,null,null,{"$f":"2*$E46","v":4},null,{"$f":"2*$E46","v":4},null,null,null,null,null,{"$f":"2*$E46","v":4},null,null,null,null,null,null,{"$f":"2*$E46","v":4},null,null,null,null,{"$f":"2*$E46","v":4},null,null,null,null,null,null,null,null,null,null,null,null,null,null,{"$f":"2*$E46","v":4},null,{"$f":"2*$E46","v":4},null,null,null,null,null,null,null,null,null,null,{"$f":"2*$E46","v":4}]
["Sadio Mane - Liverpool",null,null,3,{"$f":"0+1+0+1","v":2},null,null,null,null,null,null,null,null,null,null,null,null,null,null,null,null,null,null,null,null,null,null,null,null,null,null,null,null,null,null,null,null,null,null,null,null,null,null,null,null,null,null,null,null,null,null,null,null,null,null,null,null,null,null,null,null,{"$f":"2*$E47","v":4},{"$f":"2*$E47","v":4},null,null,{"$f":"2*$E47","v":4}]
["Sergio Aguero - Man City",null,null,10,{"$f":"1+1+2+2","v":6},null,null,null,null,{"$f":"2*$E48","v":12},null,null,null,null,null,null,null,null,null,null,null,null,null,{"$f":"2*$E48","v":12},null,null,null,null,null,null,null,null,{"$f":"2*$E48","v":12},null,null,null,null,null,null,null,{"$f":"2*$E48","v":12},null,null,null,null,{"$f":"2*$E48","v":12},null,{"$f":"2*$E48","v":12},null,null,null,null,null,null,{"$f":"2*$E48","v":12},null,null,null,null,{"$f":"2*$E48","v":12},{"$f":"2*$E48","v":12},null,null,null,null,null,null,{"$f":"2*$E48","v":12}]
[]
["Goalscorer #2"]
["Alexandre Lacazette - Arsenal",null,null,{"$f":"COUNT(H51:DV51)","v":9},{"$f":"0+1+0","v":1},null,null,null,null,null,null,null,{"$f":"2*$E51","v":2},null,null,{"$f":"2*$E51","v":2},null,null,null,{"$f":"2*$E51","v":2},null,null,null,null,null,null,null,null,null,{"$f":"2*$E51","v":2},null,null,null,null,null,null,null,null,null,null,{"$f":"2*$E51","v":2},{"$f":"2*$E51","v":2},{"$f":"2*$E51","v":2},null,null,null,null,null,null,null,null,null,null,null,null,null,null,null,null,{"$f":"2*$E51","v":2},null,null,null,null,null,{"$f":"2*$E51","v":2}]
["Ayoze Perez - Leicester City",null,null,1,{"$f":"0+0+0+0","v":0},null,null,null,null,null,null,null,null,null,null,null,null,null,null,null,null,null,null,null,null,null,null,null,null,null,null,null,null,null,null,null,null,null,{"$f":"2*$E52","v":0}]
["Callum Wilson - Bournemouth",null,null,1,{"$f":"0+0+0+1","v":1},null,null,null,{"$f":"2*$E53","v":2}]
["Jamie Vardy - Leicester City",null,null,4,{"$f":"0+0+1+2","v":3},null,null,null,null,null,null,null,null,null,null,null,null,null,null,null,null,null,null,null,null,null,null,null,null,null,null,{"$f":"2*$E54","v":6},{"$f":"2*$E54","v":6},null,null,null,null,null,null,null,null,null,null,{"$f":"2*$E54","v":6},null,null,null,null,null,null,null,null,null,null,null,null,{"$f":"2*$E54","v":6}]
["Raheem Sterling - Man City",null,null,43,{"$f":"3+1+1+0","v":5},null,null,null,null,{"$f":"2*$E55","v":10},{"$f":"2*$E55","v":10},{"$f":"2*$E55","v":10},null,{"$f":"2*$E55","v":10},{"$f":"2*$E55","v":10},null,{"$f":"2*$E55","v":10},{"$f":"2*$E55","v":10},10,null,10,10,10,10,{"$f":"2*$E55","v":10},null,{"$f":"2*$E55","v":10},{"$f":"2*$E55","v":10},{"$f":"2*$E55","v":10},null,{"$f":"2*$E55","v":10},null,null,{"$f":"2*$E55","v":10},{"$f":"2*$E55","v":10},{"$f":"2*$E55","v":10},{"$f":"2*$E55","v":10},{"$f":"2*$E55","v":10},null,{"$f":"2*$E55","v":10},null,null,null,null,{"$f":"2*$E55","v":10},10,10,10,10,10,10,null,{"$f":"2*$E55","v":10},{"$f":"2*$E55","v":10},{"$f":"2*$E55","v":10},{"$f":"2*$E55","v":10},null,{"$f":"2*$E55","v":10},{"$f":"2*$E55","v":10},null,{"$f":"2*$E55","v":10},{"$f":"2*$E55","v":10},{"$f":"2*$E55","v":10},{"$f":"2*$E55","v":10},{"$f":"2*$E55","v":10},null,{"$f":"2*$E55","v":10},{"$f":"2*$E55","v":10}]
["Raul Jiminez - Wolves",null,null,2,{"$f":"0+0+1","v":1},null,null,null,null,null,null,null,null,null,null,null,null,null,null,null,null,null,null,null,null,{"$f":"2*$E56","v":2},null,null,null,null,null,null,null,null,null,null,null,null,null,null,null,null,null,null,null,null,null,null,null,null,null,{"$f":"2*$E56","v":2}]
[]
["Golden Gloves"]
["Alisson Becker - Liverpool",null,null,{"$f":"COUNT(H59:DV59)","v":37},{"$f":"1+0+0+0","v":1},null,null,null,null,{"$f":"2*$E59","v":2},null,{"$f":"2*$E59","v":2},{"$f":"2*$E59","v":2},{"$f":"2*$E59","v":2},{"$f":"2*$E59","v":2},{"$f":"2*$E59","v":2},null,{"$f":"2*$E59","v":2},null,null,{"$f":"2*$E59","v":2},{"$f":"2*$E59","v":2},{"$f":"2*$E59","v":2},{"$f":"2*$E59","v":2},null,{"$f":"2*$E59","v":2},null,null,null,null,null,{"$f":"2*$E59","v":2},null,{"$f":"2*$E59","v":2},{"$f":"2*$E59","v":2},null,{"$f":"2*$E59","v":2},{"$f":"2*$E59","v":2},null,{"$f":"2*$E59","v":2},{"$f":"2*$E59","v":2},{"$f":"2*$E59","v":2},{"$f":"2*$E59","v":2},null,{"$f":"2*$E59","v":2},null,{"$f":"2*$E59","v":2},null,{"$f":"2*$E59","v":2},null,{"$f":"2*$E59","v":2},null,{"$f":"2*$E59","v":2},{"$f":"2*$E59","v":2},null,{"$f":"2*$E59","v":2},{"$f":"2*$E59","v":2},{"$f":"2*$E59","v":2},null,null,{"$f":"2*$E59","v":2},2,2,2,2,2,null,{"$f":"2*$E59","v":2}]
["Ederson - Man City",null,null,15,{"$f":"1+0+0+1","v":2},null,null,null,{"$f":"2*$E60","v":4},null,null,null,null,null,null,null,null,null,{"$f":"2*$E60","v":4},{"$f":"2*$E60","v":4},null,null,null,null,{"$f":"2*$E60","v":4},null,null,{"$f":"2*$E60","v":4},{"$f":"2*$E60","v":4},null,{"$f":"2*$E60","v":4},null,{"$f":"2*$E60","v":4},null,null,{"$f":"2*$E60","v":4},null,null,{"$f":"2*$E60","v":4},null,null,null,null,null,null,{"$f":"2*$E60","v":4},null,{"$f":"2*$E60","v":4},null,null,null,{"$f":"2*$E60","v":4},null,null,{"$f":"2*$E60","v":4},null,null,null,{"$f":"2*$E60","v":4}]
["David de Gea - Man United",null,null,5,{"$f":"1+0+0+0","v":1},null,null,null,null,null,null,null,null,null,null,null,{"$f":"2*$E61","v":2},null,null,null,null,null,null,null,null,null,{"$f":"2*$E61","v":2},null,null,null,null,null,null,null,null,null,null,null,null,null,null,null,null,{"$f":"2*$E61","v":2},null,null,null,null,null,{"$f":"2*$E61","v":2},null,null,null,null,null,null,null,null,null,{"$f":"2*$E61","v":2}]
["Hugo Lloris - Tottenham Hotspur",null,null,2,{"$f":"0+0+0","v":0},null,null,null,null,null,{"$f":"2*$E62","v":0},null,null,null,null,null,null,null,null,null,null,null,null,null,null,null,null,null,null,null,null,null,null,null,null,null,null,null,null,null,null,null,null,null,null,null,null,null,null,null,null,null,null,null,null,null,null,null,null,null,null,null,null,null,null,null,{"$f":"2*$E62","v":0}]
["Kepa Arrizabalaga - Chelsea",null,null,1,{"$f":"0+0+0+0","v":0},null,null,null,null,null,null,null,null,null,null,null,null,null,null,null,null,null,null,null,null,null,null,null,null,{"$f":"2*$E63","v":0}]
[]
["Sack Race"]
["Brendan Rodgers - Leicester City",null,null,{"$f":"COUNT(H66:DV66)","v":0}]
["Chris Wilder - Sheffield United",null,null,4,null,null,null,null,null,null,null,null,null,null,null,null,null,{"$f":"15*$E67","v":0},null,null,null,null,null,null,null,null,null,null,null,null,null,null,null,{"$f":"15*$E67","v":0},null,null,null,{"$f":"15*$E67","v":0},null,null,null,null,null,null,null,null,null,null,null,null,{"$f":"15*$E67","v":0}]
["Daniel Farke - Norwich City",null,null,1,null,null,null,null,null,null,null,null,null,null,null,null,null,null,null,null,null,null,null,null,null,null,null,null,null,null,null,null,null,null,{"$f":"15*$E68","v":0}]
["Dean Smith - Aston Villa",null,null,8,null,null,null,null,null,null,null,null,null,null,{"$f":"15*$E69","v":0},null,null,null,null,null,null,null,null,{"$f":"15*$E69","v":0},null,null,null,null,{"$f":"15*$E69","v":0},null,{"$f":"15*$E69","v":0},null,{"$f":"15*$E69","v":0},null,null,null,null,null,null,{"$f":"15*$E69","v":0},null,null,null,null,null,null,null,null,null,null,null,null,null,null,null,null,null,null,null,null,{"$f":"15*$E69","v":0},null,null,null,null,null,{"$f":"15*$E69","v":0}]
["Eddie Howe - Bournemouth",null,null,0]
["Frank Lampard - Chelsea",null,null,1,null,null,null,null,null,null,null,null,null,null,null,null,null,null,{"$f":"15*$E71","v":0}]
["Graham Potter - Brighton",null,null,6,null,null,null,null,null,null,null,null,null,null,null,null,null,null,null,{"$f":"15*$E72","v":0},null,null,null,null,null,null,null,null,null,null,null,null,null,null,null,null,null,null,null,null,null,{"$f":"15*$E72","v":0},null,null,null,null,null,null,null,null,null,null,null,null,null,{"$f":"15*$E72","v":0},{"$f":"15*$E72","v":0},null,{"$f":"15*$E72","v":0},null,null,null,null,null,null,null,null,{"$f":"15*$E72","v":0}]
["Javi Gracia - Watford",null,null,3,null,null,null,null,{"$f":"15*$E73","v":0},null,null,null,null,null,null,{"$f":"15*$E73","v":0},null,null,null,null,null,null,null,null,null,null,null,null,null,null,null,null,null,null,null,null,null,null,null,null,null,null,null,null,null,null,null,null,{"$f":"15*$E73","v":0}]
["Jurgen Klopp - Liverpool",null,null,0]
["Manuel Pellegrini - West Ham United",null,null,4,null,null,null,null,null,null,null,null,null,null,null,null,null,null,null,null,null,null,null,null,null,{"$f":"15*$E75","v":0},{"$f":"15*$E75","v":0},null,null,null,null,null,null,null,null,null,null,null,null,null,null,null,null,null,null,null,null,null,null,null,null,null,null,null,null,null,null,{"$f":"15*$E75","v":0},null,null,null,null,null,null,null,{"$f":"15*$E75","v":0}]
["Marco Silva - Everton",null,null,4,null,null,null,null,null,null,{"$f":"15*$E76","v":0},null,null,null,null,null,null,null,null,null,null,null,null,null,null,null,null,null,null,null,null,null,null,null,null,null,null,null,null,null,null,null,null,null,null,null,null,null,null,{"$f":"15*$E76","v":0},null,null,null,null,null,null,null,null,null,null,null,null,null,{"$f":"15*$E76","v":0},{"$f":"15*$E76","v":0}]
["Mauricio Pochettino - Tottenham Hotspur",null,null,0]
["Nuno Espirito Santo - Wolves",null,null,0]
["Ole Gunnar Solskjaer - Manchester United",null,null,9,null,null,null,null,null,{"$f":"15*$E79","v":0},null,null,{"$f":"15*$E79","v":0},{"$f":"15*$E79","v":0},null,null,null,null,null,null,null,{"$f":"15*$E79","v":0},null,null,{"$f":"15*$E79","v":0},null,null,null,null,{"$f":"15*$E79","v":0},null,null,null,null,null,null,{"$f":"15*$E79","v":0},null,null,null,null,null,null,null,{"$f":"15*$E79","v":0},null,null,null,null,null,null,null,null,{"$f":"15*$E79","v":0}]
["Pep Guardiola - Manchester City",null,null,0]
["Ralph Hassenhuttl - Southampton",null,null,2,null,null,null,null,null,null,null,null,null,null,null,null,{"$f":"15*$E81","v":0},null,null,null,null,null,null,null,null,null,null,null,null,null,null,null,null,null,null,null,null,null,null,null,null,null,null,null,null,{"$f":"15*$E81","v":0}]
["Roy Hodgson - Crystal Palace",null,null,8,null,null,null,null,null,null,null,null,null,null,null,null,null,null,null,null,null,null,{"$f":"15*$E82","v":0},null,null,null,null,{"$f":"15*$E82","v":0},null,null,null,null,null,null,null,{"$f":"15*$E82","v":0},null,null,null,null,null,null,null,{"$f":"15*$E82","v":0},null,null,{"$f":"15*$E82","v":0},null,null,null,null,null,{"$f":"15*$E82","v":0},null,{"$f":"15*$E82","v":0},null,null,null,null,null,null,null,{"$f":"15*$E82","v":0}]
["Sean Dyche - Burnley",null,null,3,null,null,null,null,null,null,null,null,null,null,null,null,null,null,null,null,null,null,null,null,null,null,null,null,null,null,null,null,null,null,null,null,null,null,{"$f":"15*$E83","v":0},null,{"$f":"15*$E83","v":0},null,null,null,null,null,null,{"$f":"15*$E83","v":0}]
["Steve Bruce - Newcastle United",null,null,7,null,null,null,null,null,null,null,{"$f":"15*$E84","v":0},null,null,null,null,null,null,null,null,{"$f":"15*$E84","v":0},null,null,null,null,null,null,null,null,null,null,{"$f":"15*$E84","v":0},null,null,null,null,null,null,null,null,null,null,{"$f":"15*$E84","v":0},null,null,null,null,null,null,null,null,{"$f":"15*$E84","v":0},null,null,null,null,null,null,null,{"$f":"15*$E84","v":0},null,{"$f":"15*$E84","v":0}]
["Unai Emery - Arsenal",null,null,0]
[]
["Grand Total - August",null,null,null,null,null,null,null,{"$f":"SUM(I$3:I86)","v":90},{"$f":"SUM(J$3:J86)","v":104},{"$f":"SUM(K$3:K86)","v":119},{"$f":"SUM(L$3:L86)","v":173},{"$f":"SUM(M$3:M86)","v":90},{"$f":"SUM(N$3:N86)","v":123},{"$f":"SUM(O$3:O86)","v":98},{"$f":"SUM(P$3:P86)","v":140},{"$f":"SUM(Q$3:Q86)","v":141},{"$f":"SUM(R$3:R86)","v":118},{"$f":"SUM(S$3:S86)","v":123},{"$f":"SUM(T$3:T86)","v":130},{"$f":"SUM(U$3:U86)","v":128},{"$f":"SUM(V$3:V86)","v":138},{"$f":"SUM(W$3:W86)","v":148},{"$f":"SUM(X$3:X86)","v":129},{"$f":"SUM(Y$3:Y86)","v":138},{"$f":"SUM(Z$3:Z86)","v":140},{"$f":"SUM(AA$3:AA86)","v":131},{"$f":"SUM(AB$3:AB86)","v":118},{"$f":"SUM(AC$3:AC86)","v":115},{"$f":"SUM(AD$3:AD86)","v":111},{"$f":"SUM(AE$3:AE86)","v":148},{"$f":"SUM(AF$3:AF86)","v":157},{"$f":"SUM(AG$3:AG86)","v":112},{"$f":"SUM(AH$3:AH86)","v":128},{"$f":"SUM(AI$3:AI86)","v":131},{"$f":"SUM(AJ$3:AJ86)","v":113},{"$f":"SUM(AK$3:AK86)","v":141},{"$f":"SUM(AL$3:AL86)","v":123},{"$f":"SUM(AM$3:AM86)","v":113},{"$f":"SUM(AN$3:AN86)","v":118},{"$f":"SUM(AO$3:AO86)","v":121},{"$f":"SUM(AP$3:AP86)","v":88},{"$f":"SUM(AQ$3:AQ86)","v":125},{"$f":"SUM(AR$3:AR86)","v":119},{"$f":"SUM(AS$3:AS86)","v":138},{"$f":"SUM(AT$3:AT86)","v":131},{"$f":"SUM(AU$3:AU86)","v":138},{"$f":"SUM(AV$3:AV86)","v":121},{"$f":"SUM(AW$3:AW86)","v":111},{"$f":"SUM(AX$3:AX86)","v":116},{"$f":"SUM(AY$3:AY86)","v":118},{"$f":"SUM(AZ$3:AZ86)","v":105},{"$f":"SUM(BA$3:BA86)","v":123},{"$f":"SUM(BB$3:BB86)","v":136},{"$f":"SUM(BC$3:BC86)","v":121},{"$f":"SUM(BD$3:BD86)","v":116},{"$f":"SUM(BE$3:BE86)","v":134},{"$f":"SUM(BF$3:BF86)","v":126},{"$f":"SUM(BG$3:BG86)","v":135},{"$f":"SUM(BH$3:BH86)","v":136},{"$f":"SUM(BI$3:BI86)","v":164},{"$f":"SUM(BJ$3:BJ86)","v":121},{"$f":"SUM(BK$3:BK86)","v":121},{"$f":"SUM(BL$3:BL86)","v":161},{"$f":"SUM(BM$3:BM86)","v":136},{"$f":"SUM(BN$3:BN86)","v":103},{"$f":"SUM(BO$3:BO86)","v":109},{"$f":"SUM(BP$3:BP86)","v":154}]
[]
["Ten Pointers",null,null,null,null,null,null,null,{"$f":"COUNTIF(I3:I40,\"10\")","v":3},{"$f":"COUNTIF(J3:J40,\"10\")","v":2},2,6,0,5,1,4,5,3,4,3,6,3,8,5,3,6,4,3,2,6,5,9,2,6,3,1,5,3,4,2,5,2,5,3,5,2,5,2,1,3,3,1,3,4,5,2,6,3,6,5,5,3,4,7,4,3,2,7]

{"sheet":"September","index":2,"n_rows":83,"n_cols":68,"rows_kept":83,"cut":false,"hidden":false,"merged":[[1,2,1,5]]}
[null,null,null,null,null,null,null,null,"Aidan Scanlon","Aidan White","Aiden Desch","Anastas Popov","Andy Dunne","Anthony Michaels","Barry McGoldrick","Bobby Hynes","Brendan Maguire","Brian Haughton","Brian Mullen","Brian Prendergast","Callum Dunne","Caroline Carroll","Chris Keohan","Ciaran O'Hart","Con McSweeney","Craig Calvert","Damien Martin","Darragh Kenny","Dave McGinley","David Cooney","Declan O'Neill","Eamon Fox","Eoghan Farrelly","Frank McSweeney","Gary Donnelly","Gary Fitzpatrick","Gary McGurk","Gavin Morgan","Gerard McCluskey","Gerry Draper","Gerry Moore","Graham Goodwin","Javier Suarez","Joe Behan","Joe Turner","John Brophy","Jonathan Fox","Karl Boland","Kevin Philpott","Kris Stainton","Liam Geraghty","Liam Keohan","Mai-Ly Turner","Matthew Lynch","Micheal Joyce","Niall Carroll","Paul Moore","Paul Prendergast","Phil Doyle","Philip Jordan","Ralph Goodwin","Richard Johnston","Roisin Joyce","Sean O'Mairtin","Simon Scanlon","Trevor Byrne","Victoria Reid","Wayne Donovan"]
["Day","Date","Teams",null,null,null,"Time"]
["Sun","2019-09-01","Everton",3,2,"Wolves","14:00:00",null,5,0,5,5,5,0,5,0,5,5,5,5,0,5,5,5,5,0,0,0,5,0,0,5,5,0,5,0,0,5,5,5,5,5,0,0,0,5,5,5,5,0,5,5,5,0,0,0,5,0,0,0,0,5,0,0,5,5,0,0]
["Sun","2019-09-01","Arsenal",2,2,"Tottenham","16:30:00",null,0,10,0,0,10,10,0,0,0,0,0,0,0,0,0,5,10,5,10,5,10,0,0,0,10,0,0,10,10,0,0,10,0,5,5,0,0,5,0,10,5,0,10,0,0,10,0,10,10,0,0,0,0,0,0,0,0,0,0,5]
["Sat","2019-09-14","Liverpool",3,1,"Newcastle United","12:30:00",null,10,5,5,5,5,5,5,5,5,5,5,5,5,5,5,5,5,5,10,5,5,5,5,5,5,5,5,5,5,5,10,5,5,5,5,5,5,5,5,5,5,5,5,5,10,5,5,5,5,5,5,5,5,5,5,5,5,5,5,5]
["Sat","2019-09-14","Brighton",1,1,"Burnley","15:00:00",null,10,10,0,10,0,0,10,0,10,0,0,10,0,0,0,10,10,10,0,0,10,10,10,10,0,10,5,10,5,0,0,10,5,10,5,10,0,0,0,0,10,0,0,0,0,10,10,10,0,0,5,0,10,0,0,10,0,10,0,10]
["Sat","2019-09-14","Man United",1,0,"Leicester City","15:00:00",null,5,5,5,5,0,10,0,0,5,5,0,5,0,0,5,0,0,5,5,0,5,0,0,0,5,5,5,0,5,0,5,0,0,5,0,0,0,5,0,5,5,5,5,0,0,0,0,5,0,0,0,5,0,0,5,5,5,5,5,0]
["Sat","2019-09-14","Sheffield United",0,1,"Southampton","15:00:00",null,0,0,0,0,0,0,0,0,0,0,0,0,0,0,0,5,0,0,5,0,0,0,0,0,0,0,0,0,0,0,0,0,0,0,0,0,0,0,0,0,5,0,0,10,0,0,0,0,0,0,0,0,0,0,0,0,0,0,0,0]
["Sat","2019-09-14","Tottenham",4,0,"Crystal Palace","15:00:00",null,5,5,5,5,5,5,5,5,5,5,5,5,5,5,5,5,5,5,5,5,5,5,5,5,5,5,5,5,5,5,5,5,5,5,5,5,5,5,5,5,5,5,5,5,5,5,5,5,5,5,5,5,5,5,5,5,5,5,5,5]
["Sat","2019-09-14","Wolves",2,5,"Chelsea","15:00:00",null,0,0,0,0,5,0,0,0,0,5,5,0,0,0,5,5,0,0,5,0,0,5,0,0,0,0,0,0,0,0,5,0,0,0,5,5,0,0,0,0,0,0,5,5,0,0,0,5,5,5,0,0,5,5,5,0,0,5,0,0]
["Sat","2019-09-14","Norwich City",3,2,"Man City","17:30:00",null,0,0,5,0,0,5,0,0,0,0,0,0,0,0,0,0,0,0,0,0,0,0,0,0,0,0,0,0,0,0,0,0,0,0,0,5,0,5,0,0,0,0,0,0,0,0,0,0,0,0,0,0,0,0,0,0,5,0,0,0]
["Sun","2019-09-15","Bournemouth",3,1,"Everton","14:00:00",null,0,0,5,5,5,5,5,5,5,0,0,0,0,0,5,0,5,5,0,0,0,5,5,0,0,0,0,10,0,0,0,0,0,5,0,0,0,5,0,5,0,0,0,0,0,0,0,5,0,0,0,0,5,0,0,0,5,5,0,0]
["Sun","2019-09-15","Watford",2,2,"Arsenal","16:30:00",null,0,0,0,5,5,0,0,0,0,0,0,0,0,0,0,0,0,0,0,0,0,0,0,0,0,0,0,10,5,0,10,0,0,0,0,0,10,0,0,0,0,0,0,0,0,0,0,0,0,0,0,0,0,0,0,0,0,0,0,5]
["Mon","2019-09-16","Aston Villa",0,0,"West Ham","20:00:00",null,0,0,0,5,0,0,10,5,0,5,0,0,0,0,0,5,0,5,5,0,0,5,5,0,0,0,5,0,0,5,0,0,5,0,5,0,0,0,0,0,0,5,0,0,0,0,5,5,5,0,5,0,0,5,0,5,0,0,0,0]
["Fri","2019-09-20","Southampton",1,3,"Bournemouth","20:00:00",null,0,0,0,0,0,0,0,0,0,0,0,0,5,5,5,0,0,0,0,0,0,0,0,0,0,0,0,0,0,0,0,0,0,0,0,0,0,5,0,0,0,0,0,5,0,0,5,0,0,0,0,0,0,0,0,0,0,0,0,0]
["Sat","2019-09-21","Leicester City",2,1,"Tottenham","12:30:00",null,10,0,5,0,0,0,0,0,0,0,0,0,0,0,0,0,0,0,0,0,0,10,0,0,0,0,0,10,0,0,10,0,10,0,0,0,10,5,0,0,0,0,10,0,0,0,0,0,0,0,0,0,0,0,10,0,0,0,10,0]
["Sat","2019-09-21","Burnley",2,0,"Norwich City","15:00:00",null,0,0,10,5,5,0,5,5,10,0,0,10,0,5,0,5,5,5,0,0,5,5,0,10,0,0,5,5,5,5,10,0,5,0,0,0,10,0,5,5,5,0,5,0,5,0,0,10,5,0,5,0,0,0,5,5,0,0,0,5]
["Sat","2019-09-21","Everton",0,2,"Sheffield United","15:00:00",null,0,0,0,0,0,0,0,0,0,0,0,0,5,0,0,0,0,0,0,0,0,0,0,0,0,0,0,0,0,0,0,0,0,0,0,0,0,0,0,0,0,0,0,0,0,0,0,0,0,0,0,0,0,0,0,0,0,0,0,0]
["Sat","2019-09-21","Man City",8,0,"Watford","15:00:00",null,5,5,5,5,5,5,5,5,5,5,5,5,5,5,5,5,5,5,5,5,5,5,5,5,5,5,5,5,5,5,5,5,5,5,0,5,5,5,5,5,5,5,5,5,5,5,5,5,5,5,5,5,5,5,5,5,5,5,5,5]
["Sat","2019-09-21","Newcastle United",0,0,"Brighton","17:30:00",null,0,0,0,0,0,0,0,0,0,0,5,0,0,5,0,0,5,0,5,0,0,5,5,0,0,0,0,5,0,5,5,0,10,0,0,5,0,5,0,0,5,0,0,0,0,5,5,0,5,0,5,0,0,0,5,5,0,0,0,0]
["Sun","2019-09-22","Crystal Palace",1,1,"Wolves","14:00:00",null,10,10,0,0,5,0,0,10,0,0,0,10,10,0,0,0,0,0,0,0,10,0,0,0,0,0,0,10,0,0,10,0,0,10,0,0,0,10,0,5,0,0,0,0,0,0,5,0,0,0,0,10,0,0,10,0,5,0,0,5]
["Sun","2019-09-22","West Ham",2,0,"Man United","14:00:00",null,0,0,10,5,5,5,5,0,0,0,0,0,5,5,0,0,5,0,0,5,0,10,5,5,0,0,0,5,0,5,0,0,0,0,0,5,0,10,0,0,0,0,0,0,0,0,0,0,5,0,0,0,5,0,5,0,0,0,0,0]
["Sun","2019-09-22","Arsenal",3,2,"Aston Villa","16:30:00",null,5,5,5,5,5,5,5,5,5,5,5,5,5,5,5,5,5,5,5,5,5,5,5,5,5,5,5,5,5,5,5,5,5,5,5,5,5,5,5,5,5,5,5,5,5,5,5,5,5,5,5,5,5,5,5,5,5,5,5,5]
["Sun","2019-09-22","Chelsea",1,2,"Liverpool","16:30:00",null,0,10,0,5,5,5,5,0,5,10,5,10,5,5,10,0,5,0,5,5,10,0,10,5,0,5,5,5,5,10,0,0,10,5,5,5,0,0,10,10,5,10,0,10,0,10,5,0,5,5,5,5,5,5,10,10,5,5,5,0]
["Sat","2019-09-28","Sheffield United",0,1,"Liverpool","12:30:00",null,5,0,"-",5,5,5,5,5,5,5,5,5,5,5,5,5,5,5,5,5,5,5,5,5,5,5,5,5,5,5,5,5,5,5,0,5,5,0,5,0,5,5,5,5,5,5,5,0,5,5,5,5,5,5,5,5,0,5,5,5]
["Sat","2019-09-28","Aston Villa",2,2,"Burnley","15:00:00",null,0,0,"-",5,0,5,5,0,0,0,5,5,10,0,0,0,5,0,5,0,0,0,5,0,0,0,0,5,0,0,10,5,5,0,0,5,0,0,0,0,0,0,0,0,0,0,10,5,5,5,10,0,0,0,5,10,0,5,5,5]
["Sat","2019-09-28","Bournemouth",2,2,"West Ham","15:00:00",null,5,0,"-",0,0,0,0,0,0,10,0,0,0,5,0,0,0,0,0,0,0,5,0,0,0,10,0,10,0,0,0,0,5,0,0,0,0,0,0,0,5,0,0,0,0,0,10,5,5,0,0,0,5,0,0,0,0,5,5,0]
["Sat","2019-09-28","Chelsea",2,0,"Brighton","15:00:00",null,10,5,"-",10,5,5,5,5,5,5,10,5,10,10,5,10,10,5,5,10,10,10,5,10,5,0,5,5,5,10,5,10,5,5,5,0,10,5,10,10,10,10,10,5,5,10,5,5,10,5,5,5,5,5,10,10,5,0,5,5]
["Sat","2019-09-28","Crystal Palace",2,0,"Norwich City","15:00:00",null,0,5,"-",5,5,5,10,5,10,5,5,5,0,5,5,5,5,0,5,5,5,0,5,5,5,5,0,0,5,5,5,0,5,0,5,5,10,0,5,10,5,0,0,0,5,0,5,10,0,0,10,0,0,5,5,0,5,5,0,5]
["Sat","2019-09-28","Tottenham",2,1,"Southampton","15:00:00",null,5,5,"-",5,5,5,5,5,10,5,5,5,10,5,5,10,5,10,10,5,5,5,10,5,5,5,0,10,5,5,5,5,5,5,10,5,5,5,5,5,5,10,5,10,5,5,5,5,5,5,5,10,5,5,5,5,10,5,5,5]
["Sat","2019-09-28","Wolves",2,0,"Watford","15:00:00",null,5,5,"-",10,0,0,5,10,10,10,5,5,5,10,0,10,10,10,5,5,5,5,5,10,0,0,10,10,5,10,0,5,0,10,5,5,5,5,5,10,5,10,10,10,5,10,5,5,5,5,0,5,10,5,10,0,5,5,10,5]
["Sat","2019-09-28","Everton",1,3,"Man City","17:30:00",null,0,0,"-",5,5,0,5,10,10,10,10,5,5,0,10,10,5,10,5,5,5,5,5,5,5,5,0,5,10,5,10,5,10,5,0,10,5,5,5,0,5,10,0,10,5,5,5,0,0,10,5,5,5,5,10,10,0,10,5,5]
["Sun","2019-09-29","Leicester City",5,0,"Newcastle United","16:30:00",null,5,5,"-",5,5,5,5,5,0,5,5,5,5,5,5,5,5,5,5,5,5,5,5,5,0,5,5,5,5,5,0,5,5,5,5,5,5,5,5,5,5,5,5,5,5,5,5,5,5,5,5,5,5,5,5,5,5,5,5,5]
["Mon","2019-09-30","Man United",1,1,"Arsenal","20:00:00",null,0,0,"-",10,0,0,0,0,0,0,0,0,10,0,0,10,0,0,5,0,0,5,0,10,0,5,10,0,5,0,0,10,0,10,5,5,0,0,10,0,0,0,0,0,0,5,0,10,0,0,0,0,0,0,0,5,0,10,0,0]
[]
["Goalscorer #1"]
["Harry Kane - Tottenham Hotspur",null,null,{"$f":"COUNT(H37:DV37)","v":15},{"$f":"1+0+1+1","v":3},null,null,null,null,null,{"$f":"2*$E37","v":6},null,null,null,null,null,null,null,null,{"$f":"2*$E37","v":6},null,null,null,null,null,null,null,{"$f":"2*$E37","v":6},null,{"$f":"2*$E37","v":6},{"$f":"2*$E37","v":6},null,null,null,{"$f":"2*$E37","v":6},{"$f":"2*$E37","v":6},null,null,{"$f":"2*$E37","v":6},null,null,{"$f":"2*$E37","v":6},null,null,null,null,null,null,{"$f":"2*$E37","v":6},{"$f":"2*$E37","v":6},null,null,null,null,null,{"$f":"2*$E37","v":6},null,{"$f":"2*$E37","v":6},null,null,null,null,null,{"$f":"2*$E37","v":6},null,null,{"$f":"2*$E37","v":6}]
["Marcus Rashford - Man United",null,null,{"$f":"COUNT(H38:DV38)","v":2},{"$f":"1+0+0","v":1},null,null,null,{"$f":"2*$E38","v":2},null,null,null,null,null,null,null,null,null,null,null,null,null,null,null,null,null,{"$f":"2*$E38","v":2}]
["Mohamed Salah - Liverpool",null,null,22,{"$f":"1+0+0","v":1},null,null,null,null,null,null,{"$f":"2*$E39","v":2},{"$f":"2*$E39","v":2},{"$f":"2*$E39","v":2},{"$f":"2*$E39","v":2},{"$f":"2*$E39","v":2},null,{"$f":"2*$E39","v":2},null,null,{"$f":"2*$E39","v":2},{"$f":"2*$E39","v":2},{"$f":"2*$E39","v":2},null,null,{"$f":"2*$E39","v":2},null,null,{"$f":"2*$E39","v":2},null,null,null,null,{"$f":"2*$E39","v":2},null,null,null,{"$f":"2*$E39","v":2},null,{"$f":"2*$E39","v":2},null,null,{"$f":"2*$E39","v":2},{"$f":"2*$E39","v":2},{"$f":"2*$E39","v":2},null,{"$f":"2*$E39","v":2},null,null,null,{"$f":"2*$E39","v":2},null,{"$f":"2*$E39","v":2},null,null,null,{"$f":"2*$E39","v":2},null,{"$f":"2*$E39","v":2}]
["Pierre Emerick Aubameyang - Arsenal",null,null,8,{"$f":"1+2+1+1","v":5},null,null,null,null,null,null,null,null,null,null,null,{"$f":"2*$E40","v":10},null,{"$f":"2*$E40","v":10},null,null,null,null,null,{"$f":"2*$E40","v":10},null,null,null,null,null,null,{"$f":"2*$E40","v":10},null,null,null,null,{"$f":"2*$E40","v":10},null,null,null,null,null,null,null,null,null,null,null,null,null,null,{"$f":"2*$E40","v":10},null,{"$f":"2*$E40","v":10},null,null,null,null,null,null,null,null,null,null,{"$f":"2*$E40","v":10}]
["Sadio Mane - Liverpool",null,null,3,{"$f":"2+0+0","v":2},null,null,null,null,null,null,null,null,null,null,null,null,null,null,null,null,null,null,null,null,null,null,null,null,null,null,null,null,null,null,null,null,null,null,null,null,null,null,null,null,null,null,null,null,null,null,null,null,null,null,null,null,null,null,null,null,{"$f":"2*$E41","v":4},{"$f":"2*$E41","v":4},null,null,{"$f":"2*$E41","v":4}]
["Sergio Aguero - Man City",null,null,10,{"$f":"1+1+0","v":2},null,null,null,null,{"$f":"2*$E42","v":4},null,null,null,null,null,null,null,null,null,null,null,null,null,{"$f":"2*$E42","v":4},null,null,null,null,null,null,null,null,{"$f":"2*$E42","v":4},null,null,null,null,null,null,null,{"$f":"2*$E42","v":4},null,null,null,null,{"$f":"2*$E42","v":4},null,{"$f":"2*$E42","v":4},null,null,null,null,null,null,{"$f":"2*$E42","v":4},null,null,null,null,{"$f":"2*$E42","v":4},{"$f":"2*$E42","v":4},null,null,null,null,null,null,{"$f":"2*$E42","v":4}]
[]
["Goalscorer #2"]
["Alexandre Lacazette - Arsenal",null,null,{"$f":"COUNT(H45:DV45)","v":9},{"$f":"1+0+0+0","v":1},null,null,null,null,null,null,null,{"$f":"2*$E45","v":2},null,null,{"$f":"2*$E45","v":2},null,null,null,{"$f":"2*$E45","v":2},null,null,null,null,null,null,null,null,null,{"$f":"2*$E45","v":2},null,null,null,null,null,null,null,null,null,null,{"$f":"2*$E45","v":2},{"$f":"2*$E45","v":2},{"$f":"2*$E45","v":2},null,null,null,null,null,null,null,null,null,null,null,null,null,null,null,null,{"$f":"2*$E45","v":2},null,null,null,null,null,{"$f":"2*$E45","v":2}]
["Ayoze Perez - Leicester City",null,null,1,{"$f":"0+0+0","v":0},null,null,null,null,null,null,null,null,null,null,null,null,null,null,null,null,null,null,null,null,null,null,null,null,null,null,null,null,null,null,null,null,null,{"$f":"2*$E46","v":0}]
["Callum Wilson - Bournemouth",null,null,1,{"$f":"2+1+1","v":4},null,null,null,{"$f":"2*$E47","v":8}]
["Jamie Vardy - Leicester City",null,null,4,{"$f":"0+0+2","v":2},null,null,null,null,null,null,null,null,null,null,null,null,null,null,null,null,null,null,null,null,null,null,null,null,null,null,{"$f":"2*$E48","v":4},{"$f":"2*$E48","v":4},null,null,null,null,null,null,null,null,null,null,{"$f":"2*$E48","v":4},null,null,null,null,null,null,null,null,null,null,null,null,{"$f":"2*$E48","v":4}]
["Raheem Sterling - Man City",null,null,43,{"$f":"0+0+1","v":1},null,null,null,null,{"$f":"2*$E49","v":2},{"$f":"2*$E49","v":2},{"$f":"2*$E49","v":2},null,{"$f":"2*$E49","v":2},{"$f":"2*$E49","v":2},null,{"$f":"2*$E49","v":2},{"$f":"2*$E49","v":2},2,null,2,2,2,2,{"$f":"2*$E49","v":2},null,{"$f":"2*$E49","v":2},{"$f":"2*$E49","v":2},{"$f":"2*$E49","v":2},null,{"$f":"2*$E49","v":2},null,null,{"$f":"2*$E49","v":2},{"$f":"2*$E49","v":2},{"$f":"2*$E49","v":2},{"$f":"2*$E49","v":2},{"$f":"2*$E49","v":2},null,{"$f":"2*$E49","v":2},null,null,null,null,{"$f":"2*$E49","v":2},2,2,2,2,2,2,null,{"$f":"2*$E49","v":2},{"$f":"2*$E49","v":2},{"$f":"2*$E49","v":2},{"$f":"2*$E49","v":2},null,{"$f":"2*$E49","v":2},{"$f":"2*$E49","v":2},null,{"$f":"2*$E49","v":2},{"$f":"2*$E49","v":2},{"$f":"2*$E49","v":2},{"$f":"2*$E49","v":2},{"$f":"2*$E49","v":2},null,{"$f":"2*$E49","v":2},{"$f":"2*$E49","v":2}]
["Raul Jiminez - Wolves",null,null,2,{"$f":"1+0+0+0","v":1},null,null,null,null,null,null,null,null,null,null,null,null,null,null,null,null,null,null,null,null,{"$f":"2*$E50","v":2},null,null,null,null,null,null,null,null,null,null,null,null,null,null,null,null,null,null,null,null,null,null,null,null,null,{"$f":"2*$E50","v":2}]
[]
["Golden Gloves"]
["Alisson Becker - Liverpool",null,null,{"$f":"COUNT(H53:DV53)","v":37},{"$f":"0+0+0","v":0},null,null,null,null,{"$f":"2*$E53","v":0},null,{"$f":"2*$E53","v":0},{"$f":"2*$E53","v":0},{"$f":"2*$E53","v":0},{"$f":"2*$E53","v":0},{"$f":"2*$E53","v":0},null,{"$f":"2*$E53","v":0},null,null,{"$f":"2*$E53","v":0},{"$f":"2*$E53","v":0},{"$f":"2*$E53","v":0},{"$f":"2*$E53","v":0},null,{"$f":"2*$E53","v":0},null,null,null,null,null,{"$f":"2*$E53","v":0},null,{"$f":"2*$E53","v":0},{"$f":"2*$E53","v":0},null,{"$f":"2*$E53","v":0},{"$f":"2*$E53","v":0},null,{"$f":"2*$E53","v":0},{"$f":"2*$E53","v":0},{"$f":"2*$E53","v":0},{"$f":"2*$E53","v":0},null,{"$f":"2*$E53","v":0},null,{"$f":"2*$E53","v":0},null,{"$f":"2*$E53","v":0},null,{"$f":"2*$E53","v":0},null,{"$f":"2*$E53","v":0},{"$f":"2*$E53","v":0},null,{"$f":"2*$E53","v":0},{"$f":"2*$E53","v":0},{"$f":"2*$E53","v":0},null,null,{"$f":"2*$E53","v":0},0,0,0,0,0,null,{"$f":"2*$E53","v":0}]
["Ederson - Man City",null,null,15,{"$f":"0+1+0","v":1},null,null,null,{"$f":"2*$E54","v":2},null,null,null,null,null,null,null,null,null,{"$f":"2*$E54","v":2},{"$f":"2*$E54","v":2},null,null,null,null,{"$f":"2*$E54","v":2},null,null,{"$f":"2*$E54","v":2},{"$f":"2*$E54","v":2},null,{"$f":"2*$E54","v":2},null,{"$f":"2*$E54","v":2},null,null,{"$f":"2*$E54","v":2},null,null,{"$f":"2*$E54","v":2},null,null,null,null,null,null,{"$f":"2*$E54","v":2},null,{"$f":"2*$E54","v":2},null,null,null,{"$f":"2*$E54","v":2},null,null,{"$f":"2*$E54","v":2},null,null,null,{"$f":"2*$E54","v":2}]
["David de Gea - Man United",null,null,5,{"$f":"1+0+0","v":1},null,null,null,null,null,null,null,null,null,null,null,{"$f":"2*$E55","v":2},null,null,null,null,null,null,null,null,null,{"$f":"2*$E55","v":2},null,null,null,null,null,null,null,null,null,null,null,null,null,null,null,null,{"$f":"2*$E55","v":2},null,null,null,null,null,{"$f":"2*$E55","v":2},null,null,null,null,null,null,null,null,null,{"$f":"2*$E55","v":2}]
["Hugo Lloris - Tottenham Hotspur",null,null,2,{"$f":"0+1+0","v":1},null,null,null,null,null,{"$f":"2*$E56","v":2},null,null,null,null,null,null,null,null,null,null,null,null,null,null,null,null,null,null,null,null,null,null,null,null,null,null,null,null,null,null,null,null,null,null,null,null,null,null,null,null,null,null,null,null,null,null,null,null,null,null,null,null,null,null,null,{"$f":"2*$E56","v":2}]
["Kepa Arrizabalaga - Chelsea",null,null,1,{"$f":"0+0+1","v":1},null,null,null,null,null,null,null,null,null,null,null,null,null,null,null,null,null,null,null,null,null,null,null,null,{"$f":"2*$E57","v":2}]
[]
["Sack Race"]
["Brendan Rodgers - Leicester City",null,null,{"$f":"COUNT(H60:DV60)","v":0}]
["Chris Wilder - Sheffield United",null,null,4,null,null,null,null,null,null,null,null,null,null,null,null,null,{"$f":"15*$E61","v":0},null,null,null,null,null,null,null,null,null,null,null,null,null,null,null,{"$f":"15*$E61","v":0},null,null,null,{"$f":"15*$E61","v":0},null,null,null,null,null,null,null,null,null,null,null,null,{"$f":"15*$E61","v":0}]
["Daniel Farke - Norwich City",null,null,1,null,null,null,null,null,null,null,null,null,null,null,null,null,null,null,null,null,null,null,null,null,null,null,null,null,null,null,null,null,null,{"$f":"15*$E62","v":0}]
["Dean Smith - Aston Villa",null,null,8,null,null,null,null,null,null,null,null,null,null,{"$f":"15*$E63","v":0},null,null,null,null,null,null,null,null,{"$f":"15*$E63","v":0},null,null,null,null,{"$f":"15*$E63","v":0},null,{"$f":"15*$E63","v":0},null,{"$f":"15*$E63","v":0},null,null,null,null,null,null,{"$f":"15*$E63","v":0},null,null,null,null,null,null,null,null,null,null,null,null,null,null,null,null,null,null,null,null,{"$f":"15*$E63","v":0},null,null,null,null,null,{"$f":"15*$E63","v":0}]
["Eddie Howe - Bournemouth",null,null,0]
["Frank Lampard - Chelsea",null,null,1,null,null,null,null,null,null,null,null,null,null,null,null,null,null,{"$f":"15*$E65","v":0}]
["Graham Potter - Brighton",null,null,6,null,null,null,null,null,null,null,null,null,null,null,null,null,null,null,{"$f":"15*$E66","v":0},null,null,null,null,null,null,null,null,null,null,null,null,null,null,null,null,null,null,null,null,null,{"$f":"15*$E66","v":0},null,null,null,null,null,null,null,null,null,null,null,null,null,{"$f":"15*$E66","v":0},{"$f":"15*$E66","v":0},null,{"$f":"15*$E66","v":0},null,null,null,null,null,null,null,null,{"$f":"15*$E66","v":0}]
["Javi Gracia - Watford",null,null,3,1,null,null,null,{"$f":"15*$E67","v":15},null,null,null,null,null,null,{"$f":"15*$E67","v":15},null,null,null,null,null,null,null,null,null,null,null,null,null,null,null,null,null,null,null,null,null,null,null,null,null,null,null,null,null,null,null,null,{"$f":"15*$E67","v":15}]
["Jurgen Klopp - Liverpool",null,null,0]
["Manuel Pellegrini - West Ham United",null,null,4,null,null,null,null,null,null,null,null,null,null,null,null,null,null,null,null,null,null,null,null,null,{"$f":"15*$E69","v":0},{"$f":"15*$E69","v":0},null,null,null,null,null,null,null,null,null,null,null,null,null,null,null,null,null,null,null,null,null,null,null,null,null,null,null,null,null,null,{"$f":"15*$E69","v":0},null,null,null,null,null,null,null,{"$f":"15*$E69","v":0}]
["Marco Silva - Everton",null,null,4,null,null,null,null,null,null,{"$f":"15*$E70","v":0},null,null,null,null,null,null,null,null,null,null,null,null,null,null,null,null,null,null,null,null,null,null,null,null,null,null,null,null,null,null,null,null,null,null,null,null,null,null,{"$f":"15*$E70","v":0},null,null,null,null,null,null,null,null,null,null,null,null,null,{"$f":"15*$E70","v":0},{"$f":"15*$E70","v":0}]
["Mauricio Pochettino - Tottenham Hotspur",null,null,0]
["Nuno Espirito Santo - Wolves",null,null,0]
["Ole Gunnar Solskjaer - Manchester United",null,null,9,null,null,null,null,null,{"$f":"15*$E73","v":0},null,null,{"$f":"15*$E73","v":0},{"$f":"15*$E73","v":0},null,null,null,null,null,null,null,{"$f":"15*$E73","v":0},null,null,{"$f":"15*$E73","v":0},null,null,null,null,{"$f":"15*$E73","v":0},null,null,null,null,null,null,{"$f":"15*$E73","v":0},null,null,null,null,null,null,null,{"$f":"15*$E73","v":0},null,null,null,null,null,null,null,null,{"$f":"15*$E73","v":0}]
["Pep Guardiola - Manchester City",null,null,0]
["Ralph Hassenhuttl - Southampton",null,null,2,null,null,null,null,null,null,null,null,null,null,null,null,{"$f":"15*$E75","v":0},null,null,null,null,null,null,null,null,null,null,null,null,null,null,null,null,null,null,null,null,null,null,null,null,null,null,null,null,{"$f":"15*$E75","v":0}]
["Roy Hodgson - Crystal Palace",null,null,8,null,null,null,null,null,null,null,null,null,null,null,null,null,null,null,null,null,null,{"$f":"15*$E76","v":0},null,null,null,null,{"$f":"15*$E76","v":0},null,null,null,null,null,null,null,{"$f":"15*$E76","v":0},null,null,null,null,null,null,null,{"$f":"15*$E76","v":0},null,null,{"$f":"15*$E76","v":0},null,null,null,null,null,{"$f":"15*$E76","v":0},null,{"$f":"15*$E76","v":0},null,null,null,null,null,null,null,{"$f":"15*$E76","v":0}]
["Sean Dyche - Burnley",null,null,3,null,null,null,null,null,null,null,null,null,null,null,null,null,null,null,null,null,null,null,null,null,null,null,null,null,null,null,null,null,null,null,null,null,null,{"$f":"15*$E77","v":0},null,{"$f":"15*$E77","v":0},null,null,null,null,null,null,{"$f":"15*$E77","v":0}]
["Steve Bruce - Newcastle United",null,null,7,null,null,null,null,null,null,null,{"$f":"15*$E78","v":0},null,null,null,null,null,null,null,null,{"$f":"15*$E78","v":0},null,null,null,null,null,null,null,null,null,null,{"$f":"15*$E78","v":0},null,null,null,null,null,null,null,null,null,null,{"$f":"15*$E78","v":0},null,null,null,null,null,null,null,null,{"$f":"15*$E78","v":0},null,null,null,null,null,null,null,{"$f":"15*$E78","v":0},null,{"$f":"15*$E78","v":0}]
["Unai Emery - Arsenal",null,null,0]
[]
["Grand Total - September",null,null,null,null,null,null,null,{"$f":"SUM(I$3:I80)","v":127},{"$f":"SUM(J$3:J80)","v":96},{"$f":"SUM(K$3:K80)","v":75},{"$f":"SUM(L$3:L80)","v":134},{"$f":"SUM(M$3:M80)","v":104},{"$f":"SUM(N$3:N80)","v":94},{"$f":"SUM(O$3:O80)","v":114},{"$f":"SUM(P$3:P80)","v":109},{"$f":"SUM(Q$3:Q80)","v":124},{"$f":"SUM(R$3:R80)","v":109},{"$f":"SUM(S$3:S80)","v":104},{"$f":"SUM(T$3:T80)","v":120},{"$f":"SUM(U$3:U80)","v":114},{"$f":"SUM(V$3:V80)","v":99},{"$f":"SUM(W$3:W80)","v":94},{"$f":"SUM(X$3:X80)","v":131},{"$f":"SUM(Y$3:Y80)","v":134},{"$f":"SUM(Z$3:Z80)","v":104},{"$f":"SUM(AA$3:AA80)","v":121},{"$f":"SUM(AB$3:AB80)","v":85},{"$f":"SUM(AC$3:AC80)","v":121},{"$f":"SUM(AD$3:AD80)","v":130},{"$f":"SUM(AE$3:AE80)","v":115},{"$f":"SUM(AF$3:AF80)","v":124},{"$f":"SUM(AG$3:AG80)","v":75},{"$f":"SUM(AH$3:AH80)","v":84},{"$f":"SUM(AI$3:AI80)","v":93},{"$f":"SUM(AJ$3:AJ80)","v":165},{"$f":"SUM(AK$3:AK80)","v":112},{"$f":"SUM(AL$3:AL80)","v":104},{"$f":"SUM(AM$3:AM80)","v":133},{"$f":"SUM(AN$3:AN80)","v":99},{"$f":"SUM(AO$3:AO80)","v":121},{"$f":"SUM(AP$3:AP80)","v":118},{"$f":"SUM(AQ$3:AQ80)","v":79},{"$f":"SUM(AR$3:AR80)","v":108},{"$f":"SUM(AS$3:AS80)","v":99},{"$f":"SUM(AT$3:AT80)","v":113},{"$f":"SUM(AU$3:AU80)","v":94},{"$f":"SUM(AV$3:AV80)","v":113},{"$f":"SUM(AW$3:AW80)","v":133},{"$f":"SUM(AX$3:AX80)","v":100},{"$f":"SUM(AY$3:AY80)","v":99},{"$f":"SUM(AZ$3:AZ80)","v":114},{"$f":"SUM(BA$3:BA80)","v":74},{"$f":"SUM(BB$3:BB80)","v":112},{"$f":"SUM(BC$3:BC80)","v":118},{"$f":"SUM(BD$3:BD80)","v":128},{"$f":"SUM(BE$3:BE80)","v":111},{"$f":"SUM(BF$3:BF80)","v":78},{"$f":"SUM(BG$3:BG80)","v":96},{"$f":"SUM(BH$3:BH80)","v":83},{"$f":"SUM(BI$3:BI80)","v":96},{"$f":"SUM(BJ$3:BJ80)","v":81},{"$f":"SUM(BK$3:BK80)","v":136},{"$f":"SUM(BL$3:BL80)","v":118},{"$f":"SUM(BM$3:BM80)","v":92},{"$f":"SUM(BN$3:BN80)","v":116},{"$f":"SUM(BO$3:BO80)","v":95},{"$f":"SUM(BP$3:BP80)","v":96}]
[]
["Ten Pointers",null,null,null,null,null,null,null,{"$f":"COUNTIF(I3:I34,\"10\")","v":5},4,2,4,1,2,3,3,6,4,2,4,5,2,2,6,4,4,3,1,5,4,3,5,1,2,2,9,2,3,7,4,{"$f":"COUNTIF(AO3:AO34,\"10\")","v":4},4,1,2,5,2,3,5,2,5,4,5,1,5,3,5,2,1,2,2,2,0,6,5,1,3,2,1]

{"sheet":"October","index":3,"n_rows":59,"n_cols":68,"rows_kept":59,"cut":false,"hidden":false,"merged":[[1,2,1,5]]}
[null,null,null,null,null,null,null,null,"Aidan Scanlon","Aidan White","Aiden Desch","Anastas Popov","Andy Dunne","Anthony Michaels","Barry McGoldrick","Bobby Hynes","Brendan Maguire","Brian Haughton","Brian Mullen","Brian Prendergast","Callum Dunne","Caroline Carroll","Chris Keohan","Ciaran O'Hart","Con McSweeney","Craig Calvert","Damien Martin","Darragh Kenny","Dave McGinley","David Cooney","Declan O'Neill","Eamon Fox","Eoghan Farrelly","Frank McSweeney","Gary Donnelly","Gary Fitzpatrick","Gary McGurk","Gavin Morgan","Gerard McCluskey","Gerry Draper","Gerry Moore","Graham Goodwin","Javier Suarez","Joe Behan","Joe Turner","John Brophy","Jonathan Fox","Karl Boland","Kevin Philpott","Kris Stainton","Liam Geraghty","Liam Keohan","Mai-Ly Turner","Matthew Lynch","Micheal Joyce","Niall Carroll","Paul Moore","Paul Prendergast","Phil Doyle","Philip Jordan","Ralph Goodwin","Richard Johnston","Roisin Joyce","Sean O'Mairtin","Simon Scanlon","Trevor Byrne","Victoria Reid","Wayne Donovan"]
["Day","Date","Teams",null,null,null,"Time"]
["Sat","2019-10-05","Brighton",3,0,"Tottenham","12:30:00",null,0,0,0,0,0,0,0,0,0,0,0,0,0,0,0,0,0,0,5,0,0,0,0,0,0,0,0,0,0,0,5,0,0,0,0,0,0,0,0,0,0,0,0,0,0,0,0,0,0,0,0,0,0,5,0,0,0,0,0,0]
["Sat","2019-10-05","Burnley",1,0,"Everton","15:00:00",null,0,0,0,10,5,0,5,5,5,5,0,0,0,0,5,10,5,5,0,5,0,5,0,5,5,0,0,5,5,5,10,10,0,0,0,5,0,10,10,0,0,0,0,0,0,0,0,0,5,5,5,10,5,0,5,5,0,0,0,10]
["Sat","2019-10-05","Liverpool",2,1,"Leicester City","15:00:00",null,0,10,5,5,5,5,5,10,5,5,0,10,5,5,5,0,5,0,5,5,5,5,5,10,5,5,5,10,5,10,5,10,0,5,10,5,10,0,10,5,10,0,5,0,5,5,0,0,5,5,0,5,10,5,5,5,0,5,5,10]
["Sat","2019-10-05","Norwich City",1,5,"Aston Villa","15:00:00",null,5,0,5,0,0,5,0,0,0,0,0,0,0,0,0,0,0,0,5,0,0,0,0,0,5,0,5,0,0,0,0,0,0,0,0,0,0,0,0,0,0,0,0,5,0,0,5,5,0,5,0,5,0,0,0,0,0,0,0,0]
["Sat","2019-10-05","Watford",0,0,"Sheffield United","15:00:00",null,0,5,0,0,5,10,5,0,0,5,0,0,5,5,0,0,0,5,0,0,5,0,0,0,0,0,0,0,0,0,0,0,5,10,10,0,5,10,0,0,0,0,0,0,5,5,0,0,5,0,0,5,0,0,0,5,0,5,0,5]
["Sat","2019-10-05","West Ham",1,2,"Crystal Palace","17:30:00",null,0,0,0,0,0,5,0,0,0,0,0,0,0,0,0,0,0,0,0,0,0,0,0,0,0,0,0,0,0,0,0,0,0,0,10,0,0,0,0,0,0,0,5,0,0,0,0,0,0,0,0,0,0,0,0,0,0,0,0,0]
["Sun","2019-10-06","Arsenal",1,0,"Bournemouth","14:00:00",null,5,5,5,5,5,5,5,5,5,5,5,5,5,5,5,5,5,5,5,5,5,5,5,5,5,5,5,5,5,5,10,5,5,5,5,5,5,5,5,5,5,5,5,5,5,5,5,5,5,5,5,10,10,5,5,5,5,5,5,5]
["Sun","2019-10-06","Man City",0,2,"Wolves","14:00:00",null,0,0,0,0,0,0,0,0,0,0,0,0,0,0,0,0,0,0,0,0,0,0,0,0,0,0,0,0,0,0,0,0,0,0,0,0,0,0,0,0,0,0,0,0,0,0,0,0,0,0,0,0,0,0,0,0,0,0,0,0]
["Sun","2019-10-06","Southampton",1,4,"Chelsea","14:00:00",null,5,5,0,5,0,5,5,5,0,5,5,5,5,5,5,0,5,5,5,0,5,5,0,5,5,5,5,0,0,5,0,5,5,5,10,0,5,5,5,5,5,5,5,5,5,5,5,5,5,5,5,5,5,10,5,0,5,5,0,5]
["Sun","2019-10-06","Newcastle United",1,0,"Man United","16:30:00",null,0,0,10,0,10,5,0,0,0,0,0,0,10,0,0,0,0,0,0,0,0,0,0,0,0,0,0,0,0,0,10,0,0,0,0,0,0,10,0,0,0,0,0,0,0,0,0,0,0,0,0,0,0,5,0,0,0,0,5,0]
["Sat","2019-10-19","Everton",null,null,"West Ham","12:30:00"]
["Sat","2019-10-19","Aston Villa",null,null,"Brighton","15:00:00"]
["Sat","2019-10-19","Bournemouth",null,null,"Norwich City","15:00:00"]
["Sat","2019-10-19","Chelsea",null,null,"Newcastle United","15:00:00"]
["Sat","2019-10-19","Leicester City",null,null,"Burnley","15:00:00"]
["Sat","2019-10-19","Tottenham",null,null,"Watford","15:00:00"]
["Sat","2019-10-19","Wolves",null,null,"Southampton","15:00:00"]
["Sat","2019-10-19","Crystal Palace",null,null,"Man City","17:30:00"]
["Sun","2019-10-20","Man United",null,null,"Liverpool","16:30:00"]
["Mon","2019-10-21","Sheffield United",null,null,"Arsenal","20:00:00"]
["Fri","2019-10-25","Southampton",null,null,"Leicester City","20:00:00"]
["Sat","2019-10-26","Man City",null,null,"Aston Villa","12:30:00"]
["Sat","2019-10-26","Brighton",null,null,"Everton","15:00:00"]
["Sat","2019-10-26","Watford",null,null,"Bournemouth","15:00:00"]
["Sat","2019-10-26","West Ham",null,null,"Sheffield United","15:00:00"]
["Sat","2019-10-26","Burnley",null,null,"Chelsea","17:30:00"]
["Sun","2019-10-27","Newcastle United",null,null,"Wolves","14:00:00"]
["Sun","2019-10-27","Arsenal",null,null,"Crystal Palace","16:30:00"]
["Sun","2019-10-27","Liverpool",null,null,"Tottenham","16:30:00"]
["Sun","2019-10-27","Norwich City",null,null,"Man United","16:30:00"]
[]
["Goalscorer #1"]
["Harry Kane - Tottenham Hotspur",null,null,{"$f":"COUNT(H35:DV35)","v":15},{"$f":"0","v":0},null,null,null,null,null,{"$f":"2*$E35","v":0},null,null,null,null,null,null,null,null,{"$f":"2*$E35","v":0},null,null,null,null,null,null,null,{"$f":"2*$E35","v":0},null,{"$f":"2*$E35","v":0},{"$f":"2*$E35","v":0},null,null,null,{"$f":"2*$E35","v":0},{"$f":"2*$E35","v":0},null,null,{"$f":"2*$E35","v":0},null,null,{"$f":"2*$E35","v":0},null,null,null,null,null,null,{"$f":"2*$E35","v":0},{"$f":"2*$E35","v":0},null,null,null,null,null,{"$f":"2*$E35","v":0},null,{"$f":"2*$E35","v":0},null,null,null,null,null,{"$f":"2*$E35","v":0},null,null,{"$f":"2*$E35","v":0}]
["Marcus Rashford - Man United",null,null,{"$f":"COUNT(H36:DV36)","v":2},{"$f":"0","v":0},null,null,null,{"$f":"2*$E36","v":0},null,null,null,null,null,null,null,null,null,null,null,null,null,null,null,null,null,{"$f":"2*$E36","v":0}]
["Mohamed Salah - Liverpool",null,null,22,{"$f":"0","v":0},null,null,null,null,null,null,{"$f":"2*$E37","v":0},{"$f":"2*$E37","v":0},{"$f":"2*$E37","v":0},{"$f":"2*$E37","v":0},{"$f":"2*$E37","v":0},null,{"$f":"2*$E37","v":0},null,null,{"$f":"2*$E37","v":0},{"$f":"2*$E37","v":0},{"$f":"2*$E37","v":0},null,null,{"$f":"2*$E37","v":0},null,null,{"$f":"2*$E37","v":0},null,null,null,null,{"$f":"2*$E37","v":0},null,null,null,{"$f":"2*$E37","v":0},null,{"$f":"2*$E37","v":0},null,null,{"$f":"2*$E37","v":0},{"$f":"2*$E37","v":0},{"$f":"2*$E37","v":0},null,{"$f":"2*$E37","v":0},null,null,null,{"$f":"2*$E37","v":0},null,{"$f":"2*$E37","v":0},null,null,null,{"$f":"2*$E37","v":0},null,{"$f":"2*$E37","v":0}]
["Pierre Emerick Aubameyang - Arsenal",null,null,8,{"$f":"0","v":0},null,null,null,null,null,null,null,null,null,null,null,{"$f":"2*$E38","v":0},null,{"$f":"2*$E38","v":0},null,null,null,null,null,{"$f":"2*$E38","v":0},null,null,null,null,null,null,{"$f":"2*$E38","v":0},null,null,null,null,{"$f":"2*$E38","v":0},null,null,null,null,null,null,null,null,null,null,null,null,null,null,{"$f":"2*$E38","v":0},null,{"$f":"2*$E38","v":0},null,null,null,null,null,null,null,null,null,null,{"$f":"2*$E38","v":0}]
["Sadio Mane - Liverpool",null,null,3,{"$f":"1","v":1},null,null,null,null,null,null,null,null,null,null,null,null,null,null,null,null,null,null,null,null,null,null,null,null,null,null,null,null,null,null,null,null,null,null,null,null,null,null,null,null,null,null,null,null,null,null,null,null,null,null,null,null,null,null,null,null,{"$f":"2*$E39","v":2},{"$f":"2*$E39","v":2},null,null,{"$f":"2*$E39","v":2}]
["Sergio Aguero - Man City",null,null,10,{"$f":"0","v":0},null,null,null,null,{"$f":"2*$E40","v":0},null,null,null,null,null,null,null,null,null,null,null,null,null,{"$f":"2*$E40","v":0},null,null,null,null,null,null,null,null,{"$f":"2*$E40","v":0},null,null,null,null,null,null,null,{"$f":"2*$E40","v":0},null,null,null,null,{"$f":"2*$E40","v":0},null,{"$f":"2*$E40","v":0},null,null,null,null,null,null,{"$f":"2*$E40","v":0},null,null,null,null,{"$f":"2*$E40","v":0},{"$f":"2*$E40","v":0},null,null,null,null,null,null,{"$f":"2*$E40","v":0}]
[]
["Goalscorer #2"]
["Alexandre Lacazette - Arsenal",null,null,{"$f":"COUNT(H43:DV43)","v":9},{"$f":"0","v":0},null,null,null,null,null,null,null,{"$f":"2*$E43","v":0},null,null,{"$f":"2*$E43","v":0},null,null,null,{"$f":"2*$E43","v":0},null,null,null,null,null,null,null,null,null,{"$f":"2*$E43","v":0},null,null,null,null,null,null,null,null,null,null,{"$f":"2*$E43","v":0},{"$f":"2*$E43","v":0},{"$f":"2*$E43","v":0},null,null,null,null,null,null,null,null,null,null,null,null,null,null,null,null,{"$f":"2*$E43","v":0},null,null,null,null,null,{"$f":"2*$E43","v":0}]
["Ayoze Perez - Leicester City",null,null,1,{"$f":"0","v":0},null,null,null,null,null,null,null,null,null,null,null,null,null,null,null,null,null,null,null,null,null,null,null,null,null,null,null,null,null,null,null,null,null,{"$f":"2*$E44","v":0}]
["Callum Wilson - Bournemouth",null,null,1,{"$f":"0","v":0},null,null,null,{"$f":"2*$E45","v":0}]
["Jamie Vardy - Leicester City",null,null,4,{"$f":"0","v":0},null,null,null,null,null,null,null,null,null,null,null,null,null,null,null,null,null,null,null,null,null,null,null,null,null,null,{"$f":"2*$E46","v":0},{"$f":"2*$E46","v":0},null,null,null,null,null,null,null,null,null,null,{"$f":"2*$E46","v":0},null,null,null,null,null,null,null,null,null,null,null,null,{"$f":"2*$E46","v":0}]
["Raheem Sterling - Man City",null,null,43,{"$f":"0","v":0},null,null,null,null,{"$f":"2*$E47","v":0},{"$f":"2*$E47","v":0},{"$f":"2*$E47","v":0},null,{"$f":"2*$E47","v":0},{"$f":"2*$E47","v":0},null,{"$f":"2*$E47","v":0},{"$f":"2*$E47","v":0},0,null,0,0,0,0,{"$f":"2*$E47","v":0},null,{"$f":"2*$E47","v":0},{"$f":"2*$E47","v":0},{"$f":"2*$E47","v":0},null,{"$f":"2*$E47","v":0},null,null,{"$f":"2*$E47","v":0},{"$f":"2*$E47","v":0},{"$f":"2*$E47","v":0},{"$f":"2*$E47","v":0},{"$f":"2*$E47","v":0},null,{"$f":"2*$E47","v":0},null,null,null,null,{"$f":"2*$E47","v":0},0,0,0,0,0,0,null,{"$f":"2*$E47","v":0},{"$f":"2*$E47","v":0},{"$f":"2*$E47","v":0},{"$f":"2*$E47","v":0},null,{"$f":"2*$E47","v":0},{"$f":"2*$E47","v":0},null,{"$f":"2*$E47","v":0},{"$f":"2*$E47","v":0},{"$f":"2*$E47","v":0},{"$f":"2*$E47","v":0},{"$f":"2*$E47","v":0},null,{"$f":"2*$E47","v":0},{"$f":"2*$E47","v":0}]
["Raul Jiminez - Wolves",null,null,2,{"$f":"0","v":0},null,null,null,null,null,null,null,null,null,null,null,null,null,null,null,null,null,null,null,null,{"$f":"2*$E48","v":0},null,null,null,null,null,null,null,null,null,null,null,null,null,null,null,null,null,null,null,null,null,null,null,null,null,{"$f":"2*$E48","v":0}]
[]
["Golden Gloves"]
["Alisson Becker - Liverpool",null,null,{"$f":"COUNT(H51:DV51)","v":37},{"$f":"0","v":0},null,null,null,null,{"$f":"2*$E51","v":0},null,{"$f":"2*$E51","v":0},{"$f":"2*$E51","v":0},{"$f":"2*$E51","v":0},{"$f":"2*$E51","v":0},{"$f":"2*$E51","v":0},null,{"$f":"2*$E51","v":0},null,null,{"$f":"2*$E51","v":0},{"$f":"2*$E51","v":0},{"$f":"2*$E51","v":0},{"$f":"2*$E51","v":0},null,{"$f":"2*$E51","v":0},null,null,null,null,null,{"$f":"2*$E51","v":0},null,{"$f":"2*$E51","v":0},{"$f":"2*$E51","v":0},null,{"$f":"2*$E51","v":0},{"$f":"2*$E51","v":0},null,{"$f":"2*$E51","v":0},{"$f":"2*$E51","v":0},{"$f":"2*$E51","v":0},{"$f":"2*$E51","v":0},null,{"$f":"2*$E51","v":0},null,{"$f":"2*$E51","v":0},null,{"$f":"2*$E51","v":0},null,{"$f":"2*$E51","v":0},null,{"$f":"2*$E51","v":0},{"$f":"2*$E51","v":0},null,{"$f":"2*$E51","v":0},{"$f":"2*$E51","v":0},{"$f":"2*$E51","v":0},null,null,{"$f":"2*$E51","v":0},0,0,0,0,0,null,{"$f":"2*$E51","v":0}]
["Ederson - Man City",null,null,15,{"$f":"0","v":0},null,null,null,{"$f":"2*$E52","v":0},null,null,null,null,null,null,null,null,null,{"$f":"2*$E52","v":0},{"$f":"2*$E52","v":0},null,null,null,null,{"$f":"2*$E52","v":0},null,null,{"$f":"2*$E52","v":0},{"$f":"2*$E52","v":0},null,{"$f":"2*$E52","v":0},null,{"$f":"2*$E52","v":0},null,null,{"$f":"2*$E52","v":0},null,null,{"$f":"2*$E52","v":0},null,null,null,null,null,null,{"$f":"2*$E52","v":0},null,{"$f":"2*$E52","v":0},null,null,null,{"$f":"2*$E52","v":0},null,null,{"$f":"2*$E52","v":0},null,null,null,{"$f":"2*$E52","v":0}]
["David de Gea - Man United",null,null,5,{"$f":"0","v":0},null,null,null,null,null,null,null,null,null,null,null,{"$f":"2*$E53","v":0},null,null,null,null,null,null,null,null,null,{"$f":"2*$E53","v":0},null,null,null,null,null,null,null,null,null,null,null,null,null,null,null,null,{"$f":"2*$E53","v":0},null,null,null,null,null,{"$f":"2*$E53","v":0},null,null,null,null,null,null,null,null,null,{"$f":"2*$E53","v":0}]
["Hugo Lloris - Tottenham Hotspur",null,null,2,{"$f":"0","v":0},null,null,null,null,null,{"$f":"2*$E54","v":0},null,null,null,null,null,null,null,null,null,null,null,null,null,null,null,null,null,null,null,null,null,null,null,null,null,null,null,null,null,null,null,null,null,null,null,null,null,null,null,null,null,null,null,null,null,null,null,null,null,null,null,null,null,null,null,{"$f":"2*$E54","v":0}]
["Kepa Arrizabalaga - Chelsea",null,null,1,{"$f":"0","v":0},null,null,null,null,null,null,null,null,null,null,null,null,null,null,null,null,null,null,null,null,null,null,null,null,{"$f":"2*$E55","v":0}]
[]
["Grand Total - October",null,null,null,null,null,null,null,{"$f":"SUM(I$3:I56)","v":15},{"$f":"SUM(J$3:J56)","v":25},{"$f":"SUM(K$3:K56)","v":25},{"$f":"SUM(L$3:L56)","v":25},{"$f":"SUM(M$3:M56)","v":30},{"$f":"SUM(N$3:N56)","v":40},{"$f":"SUM(O$3:O56)","v":25},{"$f":"SUM(P$3:P56)","v":25},{"$f":"SUM(Q$3:Q56)","v":15},{"$f":"SUM(R$3:R56)","v":25},{"$f":"SUM(S$3:S56)","v":10},{"$f":"SUM(T$3:T56)","v":20},{"$f":"SUM(U$3:U56)","v":30},{"$f":"SUM(V$3:V56)","v":20},{"$f":"SUM(W$3:W56)","v":20},{"$f":"SUM(X$3:X56)","v":15},{"$f":"SUM(Y$3:Y56)","v":20},{"$f":"SUM(Z$3:Z56)","v":20},{"$f":"SUM(AA$3:AA56)","v":25},{"$f":"SUM(AB$3:AB56)","v":15},{"$f":"SUM(AC$3:AC56)","v":20},{"$f":"SUM(AD$3:AD56)","v":20},{"$f":"SUM(AE$3:AE56)","v":10},{"$f":"SUM(AF$3:AF56)","v":25},{"$f":"SUM(AG$3:AG56)","v":25},{"$f":"SUM(AH$3:AH56)","v":15},{"$f":"SUM(AI$3:AI56)","v":20},{"$f":"SUM(AJ$3:AJ56)","v":20},{"$f":"SUM(AK$3:AK56)","v":15},{"$f":"SUM(AL$3:AL56)","v":25},{"$f":"SUM(AM$3:AM56)","v":40},{"$f":"SUM(AN$3:AN56)","v":30},{"$f":"SUM(AO$3:AO56)","v":15},{"$f":"SUM(AP$3:AP56)","v":25},{"$f":"SUM(AQ$3:AQ56)","v":45},{"$f":"SUM(AR$3:AR56)","v":15},{"$f":"SUM(AS$3:AS56)","v":25},{"$f":"SUM(AT$3:AT56)","v":40},{"$f":"SUM(AU$3:AU56)","v":30},{"$f":"SUM(AV$3:AV56)","v":15},{"$f":"SUM(AW$3:AW56)","v":20},{"$f":"SUM(AX$3:AX56)","v":10},{"$f":"SUM(AY$3:AY56)","v":20},{"$f":"SUM(AZ$3:AZ56)","v":15},{"$f":"SUM(BA$3:BA56)","v":20},{"$f":"SUM(BB$3:BB56)","v":20},{"$f":"SUM(BC$3:BC56)","v":15},{"$f":"SUM(BD$3:BD56)","v":15},{"$f":"SUM(BE$3:BE56)","v":25},{"$f":"SUM(BF$3:BF56)","v":25},{"$f":"SUM(BG$3:BG56)","v":15},{"$f":"SUM(BH$3:BH56)","v":40},{"$f":"SUM(BI$3:BI56)","v":30},{"$f":"SUM(BJ$3:BJ56)","v":32},{"$f":"SUM(BK$3:BK56)","v":22},{"$f":"SUM(BL$3:BL56)","v":20},{"$f":"SUM(BM$3:BM56)","v":10},{"$f":"SUM(BN$3:BN56)","v":22},{"$f":"SUM(BO$3:BO56)","v":15},{"$f":"SUM(BP$3:BP56)","v":35}]
[]
["Ten Pointers",null,null,null,null,null,null,null,{"$f":"COUNTIF(I1:I32,\"10\")","v":0},1,1,1,1,1,0,1,0,0,0,1,1,0,0,1,0,0,0,0,0,0,0,1,0,0,0,1,0,1,3,2,0,1,4,0,1,3,2,0,1,0,0,0,0,0,0,0,0,0,0,2,2,1,0,0,0,0,0,2]

{"sheet":"Ten Point Table","index":4,"n_rows":65,"n_cols":14,"rows_kept":65,"cut":false,"hidden":false,"merged":[]}
[]
[]
[]
[]
["No.","Name","Team Name","2019-08-01","2019-09-01","2019-10-01","2019-11-01","2019-12-01","2020-01-01","2020-02-01","2020-03-01","2020-04-01","2020-05-01","Total"]
[1,"Eamon Fox","It's Never Over, Never Really Over",{"$f":"HLOOKUP(B6,August!$I$1:$BP$89,89,FALSE)","v":9},{"$f":"HLOOKUP(B6,September!$I$1:$BP$83,83,FALSE)","v":5},null,null,null,null,null,null,null,null,{"$f":"SUM(D6:M6)","v":14}]
[2,"Sean O'Mairtin","Creweless",{"$f":"HLOOKUP(B7,August!$I$1:$BP$89,89,FALSE)","v":7},{"$f":"HLOOKUP(B7,September!$I$1:$BP$83,83,FALSE)","v":5},null,null,null,null,null,null,null,null,{"$f":"SUM(D7:M7)","v":12}]
[3,"Brendan Maguire","Cantthinkofone",{"$f":"HLOOKUP(B8,August!$I$1:$BP$89,89,FALSE)","v":5},{"$f":"HLOOKUP(B8,September!$I$1:$BP$83,83,FALSE)","v":6},null,null,null,null,null,null,null,null,{"$f":"SUM(D8:M8)","v":11}]
[4,"Callum Dunne","Seattle Sound Lads",{"$f":"HLOOKUP(B9,August!$I$1:$BP$89,89,FALSE)","v":6},{"$f":"HLOOKUP(B9,September!$I$1:$BP$83,83,FALSE)","v":5},null,null,null,null,null,null,null,null,{"$f":"SUM(D9:M9)","v":11}]
[5,"Ciaran O'Hart","Riverchapel Plate",{"$f":"HLOOKUP(B10,August!$I$1:$BP$89,89,FALSE)","v":5},{"$f":"HLOOKUP(B10,September!$I$1:$BP$83,83,FALSE)","v":6},null,null,null,null,null,null,null,null,{"$f":"SUM(D10:M10)","v":11}]
[6,"Gerard McCluskey","Breffni Blues 2019",{"$f":"HLOOKUP(B11,August!$I$1:$BP$89,89,FALSE)","v":4},{"$f":"HLOOKUP(B11,September!$I$1:$BP$83,83,FALSE)","v":7},null,null,null,null,null,null,null,null,{"$f":"SUM(D11:M11)","v":11}]
[7,"Anastas Popov","Super Saints",{"$f":"HLOOKUP(B12,August!$I$1:$BP$89,89,FALSE)","v":6},{"$f":"HLOOKUP(B12,September!$I$1:$BP$83,83,FALSE)","v":4},null,null,null,null,null,null,null,null,{"$f":"SUM(D12:M12)","v":10}]
[8,"Chris Keohan","Moves Like Agger",{"$f":"HLOOKUP(B13,August!$I$1:$BP$89,89,FALSE)","v":8},{"$f":"HLOOKUP(B13,September!$I$1:$BP$83,83,FALSE)","v":2},null,null,null,null,null,null,null,null,{"$f":"SUM(D13:M13)","v":10}]
[9,"Craig Calvert","United Manchester FC",{"$f":"HLOOKUP(B14,August!$I$1:$BP$89,89,FALSE)","v":6},{"$f":"HLOOKUP(B14,September!$I$1:$BP$83,83,FALSE)","v":4},null,null,null,null,null,null,null,null,{"$f":"SUM(D14:M14)","v":10}]
[10,"David Cooney","Lifeafterhazard",{"$f":"HLOOKUP(B15,August!$I$1:$BP$89,89,FALSE)","v":6},{"$f":"HLOOKUP(B15,September!$I$1:$BP$83,83,FALSE)","v":4},null,null,null,null,null,null,null,null,{"$f":"SUM(D15:M15)","v":10}]
[11,"Gary Fitzpatrick","Sun's Out Gunn's Out",{"$f":"HLOOKUP(B16,August!$I$1:$BP$89,89,FALSE)","v":1},{"$f":"HLOOKUP(B16,September!$I$1:$BP$83,83,FALSE)","v":9},null,null,null,null,null,null,null,null,{"$f":"SUM(D16:M16)","v":10}]
[12,"Joe Turner","The Joy of Six",{"$f":"HLOOKUP(B17,August!$I$1:$BP$89,89,FALSE)","v":5},{"$f":"HLOOKUP(B17,September!$I$1:$BP$83,83,FALSE)","v":5},null,null,null,null,null,null,null,null,{"$f":"SUM(D17:M17)","v":10}]
[13,"Roisin Joyce","LCR FC",{"$f":"HLOOKUP(B18,August!$I$1:$BP$89,89,FALSE)","v":4},{"$f":"HLOOKUP(B18,September!$I$1:$BP$83,83,FALSE)","v":6},null,null,null,null,null,null,null,null,{"$f":"SUM(D18:M18)","v":10}]
[14,"Gerry Moore","Unai Has The Pepe In His Step",{"$f":"HLOOKUP(B19,August!$I$1:$BP$89,89,FALSE)","v":5},{"$f":"HLOOKUP(B19,September!$I$1:$BP$83,83,FALSE)","v":4},null,null,null,null,null,null,null,null,{"$f":"SUM(D19:M19)","v":9}]
[15,"Matthew Lynch","The Village Idiots",{"$f":"HLOOKUP(B20,August!$I$1:$BP$89,89,FALSE)","v":4},{"$f":"HLOOKUP(B20,September!$I$1:$BP$83,83,FALSE)","v":5},null,null,null,null,null,null,null,null,{"$f":"SUM(D20:M20)","v":9}]
[16,"Aidan Scanlon","Kilflynn Santos",{"$f":"HLOOKUP(B21,August!$I$1:$BP$89,89,FALSE)","v":3},{"$f":"HLOOKUP(B21,September!$I$1:$BP$83,83,FALSE)","v":5},null,null,null,null,null,null,null,null,{"$f":"SUM(D21:M21)","v":8}]
[17,"Declan O'Neill","Athletico Spurs",{"$f":"HLOOKUP(B22,August!$I$1:$BP$89,89,FALSE)","v":5},{"$f":"HLOOKUP(B22,September!$I$1:$BP$83,83,FALSE)","v":3},null,null,null,null,null,null,null,null,{"$f":"SUM(D22:M22)","v":8}]
[18,"Frank McSweeney","Poolabu",{"$f":"HLOOKUP(B23,August!$I$1:$BP$89,89,FALSE)","v":6},{"$f":"HLOOKUP(B23,September!$I$1:$BP$83,83,FALSE)","v":2},null,null,null,null,null,null,null,null,{"$f":"SUM(D23:M23)","v":8}]
[19,"Jonathan Fox","Klopp Of The League",{"$f":"HLOOKUP(B24,August!$I$1:$BP$89,89,FALSE)","v":5},{"$f":"HLOOKUP(B24,September!$I$1:$BP$83,83,FALSE)","v":3},null,null,null,null,null,null,null,null,{"$f":"SUM(D24:M24)","v":8}]
[20,"Kris Stainton","Ole's Revolutionaries",{"$f":"HLOOKUP(B25,August!$I$1:$BP$89,89,FALSE)","v":3},{"$f":"HLOOKUP(B25,September!$I$1:$BP$83,83,FALSE)","v":5},null,null,null,null,null,null,null,null,{"$f":"SUM(D25:M25)","v":8}]
[21,"Micheal Joyce","At Last 2019",{"$f":"HLOOKUP(B26,August!$I$1:$BP$89,89,FALSE)","v":5},{"$f":"HLOOKUP(B26,September!$I$1:$BP$83,83,FALSE)","v":3},null,null,null,null,null,null,null,null,{"$f":"SUM(D26:M26)","v":8}]
[22,"Paul Moore","TAA LAA",{"$f":"HLOOKUP(B27,August!$I$1:$BP$89,89,FALSE)","v":6},{"$f":"HLOOKUP(B27,September!$I$1:$BP$83,83,FALSE)","v":2},null,null,null,null,null,null,null,null,{"$f":"SUM(D27:M27)","v":8}]
[23,"Phil Doyle","FC Muertos Errantes",{"$f":"HLOOKUP(B28,August!$I$1:$BP$89,89,FALSE)","v":6},{"$f":"HLOOKUP(B28,September!$I$1:$BP$83,83,FALSE)","v":2},null,null,null,null,null,null,null,null,{"$f":"SUM(D28:M28)","v":8}]
[24,"Wayne Donovan","Deprive The Five",{"$f":"HLOOKUP(B29,August!$I$1:$BP$89,89,FALSE)","v":7},{"$f":"HLOOKUP(B29,September!$I$1:$BP$83,83,FALSE)","v":1},null,null,null,null,null,null,null,null,{"$f":"SUM(D29:M29)","v":8}]
[25,"Anthony Michaels","Offside Ref",{"$f":"HLOOKUP(B30,August!$I$1:$BP$89,89,FALSE)","v":5},{"$f":"HLOOKUP(B30,September!$I$1:$BP$83,83,FALSE)","v":2},null,null,null,null,null,null,null,null,{"$f":"SUM(D30:M30)","v":7}]
[26,"Bobby Hynes","Born To Run",{"$f":"HLOOKUP(B31,August!$I$1:$BP$89,89,FALSE)","v":4},{"$f":"HLOOKUP(B31,September!$I$1:$BP$83,83,FALSE)","v":3},null,null,null,null,null,null,null,null,{"$f":"SUM(D31:M31)","v":7}]
[27,"Brian Haughton","The Wexicans",{"$f":"HLOOKUP(B32,August!$I$1:$BP$89,89,FALSE)","v":3},{"$f":"HLOOKUP(B32,September!$I$1:$BP$83,83,FALSE)","v":4},null,null,null,null,null,null,null,null,{"$f":"SUM(D32:M32)","v":7}]
[28,"Brian Prendergast","Magical Mustafi",{"$f":"HLOOKUP(B33,August!$I$1:$BP$89,89,FALSE)","v":3},{"$f":"HLOOKUP(B33,September!$I$1:$BP$83,83,FALSE)","v":4},null,null,null,null,null,null,null,null,{"$f":"SUM(D33:M33)","v":7}]
[29,"Con McSweeney","Dowtcha Boys",{"$f":"HLOOKUP(B34,August!$I$1:$BP$89,89,FALSE)","v":3},{"$f":"HLOOKUP(B34,September!$I$1:$BP$83,83,FALSE)","v":4},null,null,null,null,null,null,null,null,{"$f":"SUM(D34:M34)","v":7}]
[30,"Damien Martin","Rath Rovers",{"$f":"HLOOKUP(B35,August!$I$1:$BP$89,89,FALSE)","v":4},{"$f":"HLOOKUP(B35,September!$I$1:$BP$83,83,FALSE)","v":3},null,null,null,null,null,null,null,null,{"$f":"SUM(D35:M35)","v":7}]
[31,"Dave McGinley","Reservoir Dubs",{"$f":"HLOOKUP(B36,August!$I$1:$BP$89,89,FALSE)","v":2},{"$f":"HLOOKUP(B36,September!$I$1:$BP$83,83,FALSE)","v":5},null,null,null,null,null,null,null,null,{"$f":"SUM(D36:M36)","v":7}]
[32,"Gary McGurk","Origi In Madrid",{"$f":"HLOOKUP(B37,August!$I$1:$BP$89,89,FALSE)","v":5},{"$f":"HLOOKUP(B37,September!$I$1:$BP$83,83,FALSE)","v":2},null,null,null,null,null,null,null,null,{"$f":"SUM(D37:M37)","v":7}]
[33,"Karl Boland","Boaty McBoatface FC",{"$f":"HLOOKUP(B38,August!$I$1:$BP$89,89,FALSE)","v":2},{"$f":"HLOOKUP(B38,September!$I$1:$BP$83,83,FALSE)","v":5},null,null,null,null,null,null,null,null,{"$f":"SUM(D38:M38)","v":7}]
[34,"Liam Geraghty","What Shade of Blue?",{"$f":"HLOOKUP(B39,August!$I$1:$BP$89,89,FALSE)","v":3},{"$f":"HLOOKUP(B39,September!$I$1:$BP$83,83,FALSE)","v":4},null,null,null,null,null,null,null,null,{"$f":"SUM(D39:M39)","v":7}]
[35,"Niall Carroll","Dejan 6",{"$f":"HLOOKUP(B40,August!$I$1:$BP$89,89,FALSE)","v":2},{"$f":"HLOOKUP(B40,September!$I$1:$BP$83,83,FALSE)","v":5},null,null,null,null,null,null,null,null,{"$f":"SUM(D40:M40)","v":7}]
[36,"Philip Jordan","Frankie's Army",{"$f":"HLOOKUP(B41,August!$I$1:$BP$89,89,FALSE)","v":5},{"$f":"HLOOKUP(B41,September!$I$1:$BP$83,83,FALSE)","v":2},null,null,null,null,null,null,null,null,{"$f":"SUM(D41:M41)","v":7}]
[37,"Ralph Goodwin","Gorey Celtic Stars",{"$f":"HLOOKUP(B42,August!$I$1:$BP$89,89,FALSE)","v":5},{"$f":"HLOOKUP(B42,September!$I$1:$BP$83,83,FALSE)","v":2},null,null,null,null,null,null,null,null,{"$f":"SUM(D42:M42)","v":7}]
[38,"Aidan White","Return of the Villans",{"$f":"HLOOKUP(B43,August!$I$1:$BP$89,89,FALSE)","v":2},{"$f":"HLOOKUP(B43,September!$I$1:$BP$83,83,FALSE)","v":4},null,null,null,null,null,null,null,null,{"$f":"SUM(D43:M43)","v":6}]
[39,"Brian Mullen","Where's Tony Galvin Now?",{"$f":"HLOOKUP(B44,August!$I$1:$BP$89,89,FALSE)","v":4},{"$f":"HLOOKUP(B44,September!$I$1:$BP$83,83,FALSE)","v":2},null,null,null,null,null,null,null,null,{"$f":"SUM(D44:M44)","v":6}]
[40,"Gavin Morgan","Aimless Wanderers",{"$f":"HLOOKUP(B45,August!$I$1:$BP$89,89,FALSE)","v":3},{"$f":"HLOOKUP(B45,September!$I$1:$BP$83,83,FALSE)","v":3},null,null,null,null,null,null,null,null,{"$f":"SUM(D45:M45)","v":6}]
[41,"Gerry Draper","Everton10",{"$f":"HLOOKUP(B46,August!$I$1:$BP$89,89,FALSE)","v":2},{"$f":"HLOOKUP(B46,September!$I$1:$BP$83,83,FALSE)","v":4},null,null,null,null,null,null,null,null,{"$f":"SUM(D46:M46)","v":6}]
[42,"Graham Goodwin","Pochettino's Parrot",{"$f":"HLOOKUP(B47,August!$I$1:$BP$89,89,FALSE)","v":2},{"$f":"HLOOKUP(B47,September!$I$1:$BP$83,83,FALSE)","v":4},null,null,null,null,null,null,null,null,{"$f":"SUM(D47:M47)","v":6}]
[43,"Javier Suarez","Tika Taka",{"$f":"HLOOKUP(B48,August!$I$1:$BP$89,89,FALSE)","v":5},{"$f":"HLOOKUP(B48,September!$I$1:$BP$83,83,FALSE)","v":1},null,null,null,null,null,null,null,null,{"$f":"SUM(D48:M48)","v":6}]
[44,"Liam Keohan","Irish Gunner",{"$f":"HLOOKUP(B49,August!$I$1:$BP$89,89,FALSE)","v":1},{"$f":"HLOOKUP(B49,September!$I$1:$BP$83,83,FALSE)","v":5},null,null,null,null,null,null,null,null,{"$f":"SUM(D49:M49)","v":6}]
[45,"Trevor Byrne","Noddys 11",{"$f":"HLOOKUP(B50,August!$I$1:$BP$89,89,FALSE)","v":3},{"$f":"HLOOKUP(B50,September!$I$1:$BP$83,83,FALSE)","v":3},null,null,null,null,null,null,null,null,{"$f":"SUM(D50:M50)","v":6}]
[46,"Caroline Carroll","Mane 10",{"$f":"HLOOKUP(B51,August!$I$1:$BP$89,89,FALSE)","v":3},{"$f":"HLOOKUP(B51,September!$I$1:$BP$83,83,FALSE)","v":2},null,null,null,null,null,null,null,null,{"$f":"SUM(D51:M51)","v":5}]
[47,"Gary Donnelly","Storm A Brewstering….",{"$f":"HLOOKUP(B52,August!$I$1:$BP$89,89,FALSE)","v":3},{"$f":"HLOOKUP(B52,September!$I$1:$BP$83,83,FALSE)","v":2},null,null,null,null,null,null,null,null,{"$f":"SUM(D52:M52)","v":5}]
[48,"Joe Behan","Melchester Rovers",{"$f":"HLOOKUP(B53,August!$I$1:$BP$89,89,FALSE)","v":3},{"$f":"HLOOKUP(B53,September!$I$1:$BP$83,83,FALSE)","v":2},null,null,null,null,null,null,null,null,{"$f":"SUM(D53:M53)","v":5}]
[49,"Simon Scanlon","Taking It Serious This Year",{"$f":"HLOOKUP(B54,August!$I$1:$BP$89,89,FALSE)","v":4},{"$f":"HLOOKUP(B54,September!$I$1:$BP$83,83,FALSE)","v":1},null,null,null,null,null,null,null,null,{"$f":"SUM(D54:M54)","v":5}]
[50,"Aiden Desch","NumNuts",{"$f":"HLOOKUP(B55,August!$I$1:$BP$89,89,FALSE)","v":2},{"$f":"HLOOKUP(B55,September!$I$1:$BP$83,83,FALSE)","v":2},null,null,null,null,null,null,null,null,{"$f":"SUM(D55:M55)","v":4}]
[51,"Barry McGoldrick","The Blarney Pilgrims",{"$f":"HLOOKUP(B56,August!$I$1:$BP$89,89,FALSE)","v":1},{"$f":"HLOOKUP(B56,September!$I$1:$BP$83,83,FALSE)","v":3},null,null,null,null,null,null,null,null,{"$f":"SUM(D56:M56)","v":4}]
[52,"Darragh Kenny","Luca Connell CSC",{"$f":"HLOOKUP(B57,August!$I$1:$BP$89,89,FALSE)","v":3},{"$f":"HLOOKUP(B57,September!$I$1:$BP$83,83,FALSE)","v":1},null,null,null,null,null,null,null,null,{"$f":"SUM(D57:M57)","v":4}]
[53,"John Brophy","Carrig Combo",{"$f":"HLOOKUP(B58,August!$I$1:$BP$89,89,FALSE)","v":2},{"$f":"HLOOKUP(B58,September!$I$1:$BP$83,83,FALSE)","v":2},null,null,null,null,null,null,null,null,{"$f":"SUM(D58:M58)","v":4}]
[54,"Mai-Ly Turner","Mo The Magnificent",{"$f":"HLOOKUP(B59,August!$I$1:$BP$89,89,FALSE)","v":3},{"$f":"HLOOKUP(B59,September!$I$1:$BP$83,83,FALSE)","v":1},null,null,null,null,null,null,null,null,{"$f":"SUM(D59:M59)","v":4}]
[55,"Paul Prendergast","The Untouchables",{"$f":"HLOOKUP(B60,August!$I$1:$BP$89,89,FALSE)","v":3},{"$f":"HLOOKUP(B60,September!$I$1:$BP$83,83,FALSE)","v":1},null,null,null,null,null,null,null,null,{"$f":"SUM(D60:M60)","v":4}]
[56,"Victoria Reid","Tristan's Titans",{"$f":"HLOOKUP(B61,August!$I$1:$BP$89,89,FALSE)","v":2},{"$f":"HLOOKUP(B61,September!$I$1:$BP$83,83,FALSE)","v":2},null,null,null,null,null,null,null,null,{"$f":"SUM(D61:M61)","v":4}]
[57,"Eoghan Farrelly","Last Chance Saloon",{"$f":"HLOOKUP(B62,August!$I$1:$BP$89,89,FALSE)","v":2},{"$f":"HLOOKUP(B62,September!$I$1:$BP$83,83,FALSE)","v":1},null,null,null,null,null,null,null,null,{"$f":"SUM(D62:M62)","v":3}]
[58,"Kevin Philpott","Kevlaar",{"$f":"HLOOKUP(B63,August!$I$1:$BP$89,89,FALSE)","v":1},{"$f":"HLOOKUP(B63,September!$I$1:$BP$83,83,FALSE)","v":2},null,null,null,null,null,null,null,null,{"$f":"SUM(D63:M63)","v":3}]
[59,"Richard Johnston","Ba Mhaith Liom Cupan Tae",{"$f":"HLOOKUP(B64,August!$I$1:$BP$89,89,FALSE)","v":3},{"$f":"HLOOKUP(B64,September!$I$1:$BP$83,83,FALSE)","v":0},null,null,null,null,null,null,null,null,{"$f":"SUM(D64:M64)","v":3}]
[60,"Andy Dunne","Matipswich Town",{"$f":"HLOOKUP(B65,August!$I$1:$BP$89,89,FALSE)","v":0},{"$f":"HLOOKUP(B65,September!$I$1:$BP$83,83,FALSE)","v":1},null,null,null,null,null,null,null,null,{"$f":"SUM(D65:M65)","v":1}]

{"sheet":"Mini Leagues","index":5,"n_rows":66,"n_cols":4,"rows_kept":66,"cut":false,"hidden":false,"merged":[[4,0,4,3],[13,0,13,3],[24,0,24,3],[43,0,43,3],[50,0,50,3]]}
[]
[]
[]
[]
["The Behan Counters"]
["Pos.","Name","Team Name","Points"]
[1,"Roisin Joyce","LCR FC",{"$f":"VLOOKUP(B7,Leaderboard!$B$6:$N$66,13,FALSE)","v":279}]
[2,"Declan O'Neill","Athletico Spurs",{"$f":"VLOOKUP(B8,Leaderboard!$B$6:$N$66,13,FALSE)","v":273}]
[3,"Dave McGinley","Reservoir Dubs",{"$f":"VLOOKUP(B9,Leaderboard!$B$6:$N$66,13,FALSE)","v":256}]
[4,"Micheal Joyce","At Last 2019",{"$f":"VLOOKUP(B10,Leaderboard!$B$6:$N$66,13,FALSE)","v":254}]
[5,"Javier Suarez","Tika Taka",{"$f":"VLOOKUP(B11,Leaderboard!$B$6:$N$66,13,FALSE)","v":249}]
[6,"Joe Behan","Melchester Rovers",{"$f":"VLOOKUP(B12,Leaderboard!$B$6:$N$66,13,FALSE)","v":242}]
[]
["CIT Old Boys Network"]
["Pos.","Name","Team Name","Points"]
[1,"Anastas Popov","Super Saints",{"$f":"VLOOKUP(B16,Leaderboard!$B$6:$N$66,13,FALSE)","v":332}]
[2,"Con McSweeney","Dowtcha Boys",{"$f":"VLOOKUP(B17,Leaderboard!$B$6:$N$66,13,FALSE)","v":292}]
[3,"Brian Prendergast","Magical Mustafi",{"$f":"VLOOKUP(B18,Leaderboard!$B$6:$N$66,13,FALSE)","v":270}]
[4,"Kevin Philpott","Kevlaar",{"$f":"VLOOKUP(B19,Leaderboard!$B$6:$N$66,13,FALSE)","v":264}]
[5,"Joe Turner","The Joy of Six",{"$f":"VLOOKUP(B20,Leaderboard!$B$6:$N$66,13,FALSE)","v":262}]
[6,"Gavin Morgan","Aimless Wanderers",{"$f":"VLOOKUP(B21,Leaderboard!$B$6:$N$66,13,FALSE)","v":252}]
[7,"Gerry Draper","Everton10",{"$f":"VLOOKUP(B22,Leaderboard!$B$6:$N$66,13,FALSE)","v":247}]
[8,"Aidan White","Return of the Villans",{"$f":"VLOOKUP(B23,Leaderboard!$B$6:$N$66,13,FALSE)","v":225}]
[]
["Champions of Europe Members Club"]
["Pos.","Name","Team Name","Points"]
[1,"Bobby Hynes","Born To Run",{"$f":"VLOOKUP(B27,Leaderboard!$B$6:$N$66,13,FALSE)","v":274}]
[2,"Callum Dunne","Seattle Sound Lads",{"$f":"VLOOKUP(B28,Leaderboard!$B$6:$N$66,13,FALSE)","v":272}]
[3,"Paul Moore","TAA LAA",{"$f":"VLOOKUP(B29,Leaderboard!$B$6:$N$66,13,FALSE)","v":270}]
[4,"Gary McGurk","Origi In Madrid",{"$f":"VLOOKUP(B30,Leaderboard!$B$6:$N$66,13,FALSE)","v":268}]
[5,"Joe Turner","The Joy of Six",{"$f":"VLOOKUP(B31,Leaderboard!$B$6:$N$66,13,FALSE)","v":262}]
[6,"Jonathan Fox","Klopp Of The League",{"$f":"VLOOKUP(B32,Leaderboard!$B$6:$N$66,13,FALSE)","v":262}]
[7,"Niall Carroll","Dejan 6",{"$f":"VLOOKUP(B33,Leaderboard!$B$6:$N$66,13,FALSE)","v":259}]
[8,"Caroline Carroll","Mane 10",{"$f":"VLOOKUP(B34,Leaderboard!$B$6:$N$66,13,FALSE)","v":257}]
[9,"Brian Haughton","The Wexicans",{"$f":"VLOOKUP(B35,Leaderboard!$B$6:$N$66,13,FALSE)","v":252}]
[10,"Javier Suarez","Tika Taka",{"$f":"VLOOKUP(B36,Leaderboard!$B$6:$N$66,13,FALSE)","v":249}]
[11,"Gary Donnelly","Storm A Brewstering….",{"$f":"VLOOKUP(B37,Leaderboard!$B$6:$N$66,13,FALSE)","v":244}]
[12,"Trevor Byrne","Noddys 11",{"$f":"VLOOKUP(B38,Leaderboard!$B$6:$N$66,13,FALSE)","v":241}]
[13,"Richard Johnston","Ba Mhaith Liom Cupan Tae",{"$f":"VLOOKUP(B39,Leaderboard!$B$6:$N$66,13,FALSE)","v":234}]
[14,"Paul Prendergast","The Untouchables",{"$f":"VLOOKUP(B40,Leaderboard!$B$6:$N$66,13,FALSE)","v":229}]
[15,"Andy Dunne","Matipswich Town",{"$f":"VLOOKUP(B41,Leaderboard!$B$6:$N$66,13,FALSE)","v":224}]
[16,"Mai-Ly Turner","Mo The Magnificent",{"$f":"VLOOKUP(B42,Leaderboard!$B$6:$N$66,13,FALSE)","v":217}]
[]
["McSweeney's Mercenaries"]
["Pos.","Name","Team Name","Points"]
[1,"Con McSweeney","Dowtcha Boys",{"$f":"VLOOKUP(B46,Leaderboard!$B$6:$N$66,13,FALSE)","v":292}]
[2,"Gerard McCluskey","Breffni Blues 2019",{"$f":"VLOOKUP(B47,Leaderboard!$B$6:$N$66,13,FALSE)","v":286}]
[3,"Damien Martin","Rath Rovers",{"$f":"VLOOKUP(B48,Leaderboard!$B$6:$N$66,13,FALSE)","v":277}]
[4,"Victoria Reid","Tristan's Titans",{"$f":"VLOOKUP(B49,Leaderboard!$B$6:$N$66,13,FALSE)","v":219}]
[]
["The Wicklow League"]
["Pos.","Name","Team Name","Points"]
[1,"Ralph Goodwin","Gorey Celtic Stars",{"$f":"VLOOKUP(B53,Leaderboard!$B$6:$N$66,13,FALSE)","v":290}]
[2,"John Brophy","Carrig Combo",{"$f":"VLOOKUP(B54,Leaderboard!$B$6:$N$66,13,FALSE)","v":284}]
[3,"Brendan Maguire","Cantthinkofone",{"$f":"VLOOKUP(B55,Leaderboard!$B$6:$N$66,13,FALSE)","v":280}]
[4,"Bobby Hynes","Born To Run",{"$f":"VLOOKUP(B56,Leaderboard!$B$6:$N$66,13,FALSE)","v":274}]
[5,"Joe Turner","The Joy of Six",{"$f":"VLOOKUP(B57,Leaderboard!$B$6:$N$66,13,FALSE)","v":262}]
[6,"Trevor Byrne","Noddys 11",{"$f":"VLOOKUP(B58,Leaderboard!$B$6:$N$66,13,FALSE)","v":241}]
[7,"Simon Scanlon","Taking It Serious This Year",{"$f":"VLOOKUP(B59,Leaderboard!$B$6:$N$66,13,FALSE)","v":238}]
[8,"Brian Mullen","Where's Tony Galvin Now?",{"$f":"VLOOKUP(B60,Leaderboard!$B$6:$N$66,13,FALSE)","v":237}]
[9,"Liam Geraghty","What Shade of Blue?",{"$f":"VLOOKUP(B61,Leaderboard!$B$6:$N$66,13,FALSE)","v":237}]
[10,"Richard Johnston","Ba Mhaith Liom Cupan Tae",{"$f":"VLOOKUP(B62,Leaderboard!$B$6:$N$66,13,FALSE)","v":234}]
[11,"Graham Goodwin","Pochettino's Parrot",{"$f":"VLOOKUP(B63,Leaderboard!$B$6:$N$66,13,FALSE)","v":231}]
[12,"Paul Prendergast","The Untouchables",{"$f":"VLOOKUP(B64,Leaderboard!$B$6:$N$66,13,FALSE)","v":229}]
[13,"Aidan White","Return of the Villans",{"$f":"VLOOKUP(B65,Leaderboard!$B$6:$N$66,13,FALSE)","v":225}]
[14,"Mai-Ly Turner","Mo The Magnificent",{"$f":"VLOOKUP(B66,Leaderboard!$B$6:$N$66,13,FALSE)","v":217}]

{"sheet":"Jokers","index":6,"n_rows":61,"n_cols":35,"rows_kept":61,"cut":false,"hidden":false,"merged":[]}
["No.","Player","Team Name","Joker",1,2,3,4,5,6,7,8,9,10,11,12,13,14,15,16,17,18,19,20,21,22,23,24,25,26,27,28,29,30,"Total"]
[1,"Aidan Scanlon","Kilflynn Santos",null,null,null,null,null,null,null,null,null,null,null,null,null,null,null,null,null,null,null,null,null,null,null,null,null,null,null,null,null,null,null,{"$f":"COUNTIF(E2:AH2,\"a\")","v":0}]
[2,"Aidan White","Return of the Villans","1-0","a","a","a","a","a","a","a","a","a","a","a",null,null,null,null,null,null,null,null,null,null,null,null,null,null,null,null,null,null,null,11]
[3,"Aiden Desch","NumNuts","2-0","a","a","a","a","a","a","a","a","a","a","a","a","a","a","a","a","a","a","a","a","a","a","a","a","a","a","a","a","a","a",30]
[4,"Anastas Popov","Super Saints",null,null,null,null,null,null,null,null,null,null,null,null,null,null,null,null,null,null,null,null,null,null,null,null,null,null,null,null,null,null,null,0]
[5,"Andy Dunne","Matipswich Town",null,null,null,null,null,null,null,null,null,null,null,null,null,null,null,null,null,null,null,null,null,null,null,null,null,null,null,null,null,null,null,0]
[6,"Anthony Michaels","Offside Ref","1-0","a","a","a","a","a","a","a","a","a","a","a","a","a","a","a","a","a","a","a","a","a",null,null,null,null,null,null,null,null,null,21]
[7,"Barry McGoldrick","The Blarney Pilgrims","2-1","a","a","a","a","a","a","a","a","a","a",null,null,null,null,null,null,null,null,null,null,null,null,null,null,null,null,null,null,null,null,10]
[8,"Bobby Hynes","Born To Run",null,null,null,null,null,null,null,null,null,null,null,null,null,null,null,null,null,null,null,null,null,null,null,null,null,null,null,null,null,null,null,0]
[9,"Brendan Maguire","Cantthinkofone",null,null,null,null,null,null,null,null,null,null,null,null,null,null,null,null,null,null,null,null,null,null,null,null,null,null,null,null,null,null,null,0]
[10,"Brian Haughton","The Wexicans",null,null,null,null,null,null,null,null,null,null,null,null,null,null,null,null,null,null,null,null,null,null,null,null,null,null,null,null,null,null,null,0]
[11,"Brian Mullen","Where's Tony Galvin Now?",null,null,null,null,null,null,null,null,null,null,null,null,null,null,null,null,null,null,null,null,null,null,null,null,null,null,null,null,null,null,null,0]
[12,"Brian Prendergast","Magical Mustafi","2-1","a",null,null,null,null,null,null,null,null,null,null,null,null,null,null,null,null,null,null,null,null,null,null,null,null,null,null,null,null,null,1]
[13,"Callum Dunne","Seattle Sound Lads",null,null,null,null,null,null,null,null,null,null,null,null,null,null,null,null,null,null,null,null,null,null,null,null,null,null,null,null,null,null,null,0]
[14,"Caroline Carroll","Mane 10","2-0","a",null,null,null,null,null,null,null,null,null,null,null,null,null,null,null,null,null,null,null,null,null,null,null,null,null,null,null,null,null,{"$f":"COUNTIF(E15:AH15,\"a\")","v":1}]
[15,"Chris Keohan","Moves Like Agger","2-0","a",null,null,null,null,null,null,null,null,null,null,null,null,null,null,null,null,null,null,null,null,null,null,null,null,null,null,null,null,null,{"$f":"COUNTIF(E16:AH16,\"a\")","v":1}]
[16,"Ciaran O'Hart","Riverchapel Plate",null,null,null,null,null,null,null,null,null,null,null,null,null,null,null,null,null,null,null,null,null,null,null,null,null,null,null,null,null,null,null,0]
[17,"Con McSweeney","Dowtcha Boys",null,null,null,null,null,null,null,null,null,null,null,null,null,null,null,null,null,null,null,null,null,null,null,null,null,null,null,null,null,null,null,0]
[18,"Craig Calvert","United Manchester FC",null,null,null,null,null,null,null,null,null,null,null,null,null,null,null,null,null,null,null,null,null,null,null,null,null,null,null,null,null,null,null,0]
[19,"Damien Martin","Rath Rovers","1-0","a","a","a",null,null,null,null,null,null,null,null,null,null,null,null,null,null,null,null,null,null,null,null,null,null,null,null,null,null,null,3]
[20,"Darragh Kenny","Luca Connell CSC",null,null,null,null,null,null,null,null,null,null,null,null,null,null,null,null,null,null,null,null,null,null,null,null,null,null,null,null,null,null,null,0]
[21,"Dave McGinley","Reservoir Dubs","2-1","a","a",null,null,null,null,null,null,null,null,null,null,null,null,null,null,null,null,null,null,null,null,null,null,null,null,null,null,null,null,2]
[22,"David Cooney","Lifeafterhazard",null,null,null,null,null,null,null,null,null,null,null,null,null,null,null,null,null,null,null,null,null,null,null,null,null,null,null,null,null,null,null,0]
[23,"Declan O'Neill","Athletico Spurs",null,null,null,null,null,null,null,null,null,null,null,null,null,null,null,null,null,null,null,null,null,null,null,null,null,null,null,null,null,null,null,0]
[24,"Eamon Fox","It's Never Over, Never Really Over",null,null,null,null,null,null,null,null,null,null,null,null,null,null,null,null,null,null,null,null,null,null,null,null,null,null,null,null,null,null,null,0]
[25,"Eoghan Farrelly","Last Chance Saloon","1-0","a","a",null,null,null,null,null,null,null,null,null,null,null,null,null,null,null,null,null,null,null,null,null,null,null,null,null,null,null,null,2]
[26,"Frank McSweeney","Poolabu",null,null,null,null,null,null,null,null,null,null,null,null,null,null,null,null,null,null,null,null,null,null,null,null,null,null,null,null,null,null,null,0]
[27,"Gary Donnelly","Storm A Brewstering….",null,null,null,null,null,null,null,null,null,null,null,null,null,null,null,null,null,null,null,null,null,null,null,null,null,null,null,null,null,null,null,0]
[28,"Gary Fitzpatrick","Sun's Out Gunn's Out",null,null,null,null,null,null,null,null,null,null,null,null,null,null,null,null,null,null,null,null,null,null,null,null,null,null,null,null,null,null,null,0]
[29,"Gary McGurk","Origi In Madrid",null,null,null,null,null,null,null,null,null,null,null,null,null,null,null,null,null,null,null,null,null,null,null,null,null,null,null,null,null,null,null,0]
[30,"Gavin Morgan","Aimless Wanderers","2-1","a",null,null,null,null,null,null,null,null,null,null,null,null,null,null,null,null,null,null,null,null,null,null,null,null,null,null,null,null,null,1]
[31,"Gerard McCluskey","Breffni Blues 2019","1-0","a","a","a","a","a","a","a","a","a","a","a","a","a","a","a","a","a","a","a","a",null,null,null,null,null,null,null,null,null,null,20]
[32,"Gerry Draper","Everton10",null,null,null,null,null,null,null,null,null,null,null,null,null,null,null,null,null,null,null,null,null,null,null,null,null,null,null,null,null,null,null,0]
[33,"Gerry Moore","Unai Has The Pepe In His Step","2-1","a","a","a",null,null,null,null,null,null,null,null,null,null,null,null,null,null,null,null,null,null,null,null,null,null,null,null,null,null,null,3]
[34,"Graham Goodwin","Pochettino's Parrot",null,null,null,null,null,null,null,null,null,null,null,null,null,null,null,null,null,null,null,null,null,null,null,null,null,null,null,null,null,null,null,0]
[35,"Javier Suarez","Tika Taka","2-1","a","a","a","a","a","a","a","a",null,null,null,null,null,null,null,null,null,null,null,null,null,null,null,null,null,null,null,null,null,null,8]
[36,"Joe Behan","Melchester Rovers",null,null,null,null,null,null,null,null,null,null,null,null,null,null,null,null,null,null,null,null,null,null,null,null,null,null,null,null,null,null,null,0]
[37,"Joe Turner","The Joy of Six",null,null,null,null,null,null,null,null,null,null,null,null,null,null,null,null,null,null,null,null,null,null,null,null,null,null,null,null,null,null,null,0]
[38,"John Brophy","Carrig Combo","2-0","a","a","a","a","a","a","a","a","a","a",null,null,null,null,null,null,null,null,null,null,null,null,null,null,null,null,null,null,null,null,10]
[39,"Jonathan Fox","Klopp Of The League",null,null,null,null,null,null,null,null,null,null,null,null,null,null,null,null,null,null,null,null,null,null,null,null,null,null,null,null,null,null,null,0]
[40,"Karl Boland","Boaty McBoatface FC","2-0","a","a","a","a","a","a","a","a","a","a",null,null,null,null,null,null,null,null,null,null,null,null,null,null,null,null,null,null,null,null,10]
[41,"Kevin Philpott","Kevlaar","2-0","a",null,null,null,null,null,null,null,null,null,null,null,null,null,null,null,null,null,null,null,null,null,null,null,null,null,null,null,null,null,1]
[42,"Kris Stainton","Ole's Revolutionaries","1-0","a","a",null,null,null,null,null,null,null,null,null,null,null,null,null,null,null,null,null,null,null,null,null,null,null,null,null,null,null,null,2]
[43,"Liam Geraghty","What Shade of Blue?","2-1","a","a","a",null,null,null,null,null,null,null,null,null,null,null,null,null,null,null,null,null,null,null,null,null,null,null,null,null,null,null,3]
[44,"Liam Keohan","Irish Gunner","2-1","a",null,null,null,null,null,null,null,null,null,null,null,null,null,null,null,null,null,null,null,null,null,null,null,null,null,null,null,null,null,1]
[45,"Mai-Ly Turner","Mo The Magnificent",null,null,null,null,null,null,null,null,null,null,null,null,null,null,null,null,null,null,null,null,null,null,null,null,null,null,null,null,null,null,null,0]
[46,"Matthew Lynch","The Village Idiots","0-0","a",null,null,null,null,null,null,null,null,null,null,null,null,null,null,null,null,null,null,null,null,null,null,null,null,null,null,null,null,null,1]
[47,"Micheal Joyce","At Last 2019",null,null,null,null,null,null,null,null,null,null,null,null,null,null,null,null,null,null,null,null,null,null,null,null,null,null,null,null,null,null,null,0]
[48,"Niall Carroll","Dejan 6","2-0","a",null,null,null,null,null,null,null,null,null,null,null,null,null,null,null,null,null,null,null,null,null,null,null,null,null,null,null,null,null,1]
[49,"Paul Moore","TAA LAA",null,null,null,null,null,null,null,null,null,null,null,null,null,null,null,null,null,null,null,null,null,null,null,null,null,null,null,null,null,null,null,0]
[50,"Paul Prendergast","The Untouchables",null,null,null,null,null,null,null,null,null,null,null,null,null,null,null,null,null,null,null,null,null,null,null,null,null,null,null,null,null,null,null,0]
[51,"Phil Doyle","FC Muertos Errantes",null,null,null,null,null,null,null,null,null,null,null,null,null,null,null,null,null,null,null,null,null,null,null,null,null,null,null,null,null,null,null,0]
[52,"Philip Jordan","Frankie's Army",null,null,null,null,null,null,null,null,null,null,null,null,null,null,null,null,null,null,null,null,null,null,null,null,null,null,null,null,null,null,null,0]
[53,"Ralph Goodwin","Gorey Celtic Stars",null,null,null,null,null,null,null,null,null,null,null,null,null,null,null,null,null,null,null,null,null,null,null,null,null,null,null,null,null,null,null,0]
[54,"Richard Johnston","Ba Mhaith Liom Cupan Tae","2-1","a","a","a",null,null,null,null,null,null,null,null,null,null,null,null,null,null,null,null,null,null,null,null,null,null,null,null,null,null,null,3]
[55,"Roisin Joyce","LCR FC",null,null,null,null,null,null,null,null,null,null,null,null,null,null,null,null,null,null,null,null,null,null,null,null,null,null,null,null,null,null,null,0]
[56,"Sean O'Mairtin","Creweless",null,null,null,null,null,null,null,null,null,null,null,null,null,null,null,null,null,null,null,null,null,null,null,null,null,null,null,null,null,null,null,0]
[57,"Simon Scanlon","Taking It Serious This Year","2-1","a","a","a","a","a","a","a","a","a","a","a","a","a","a","a","a","a","a","a","a","a","a","a","a","a","a","a","a","a",null,29]
[58,"Trevor Byrne","Noddys 11",null,null,null,null,null,null,null,null,null,null,null,null,null,null,null,null,null,null,null,null,null,null,null,null,null,null,null,null,null,null,null,0]
[59,"Victoria Reid","Tristan's Titans",null,null,null,null,null,null,null,null,null,null,null,null,null,null,null,null,null,null,null,null,null,null,null,null,null,null,null,null,null,null,null,0]
[60,"Wayne Donovan","Deprive The Five","2-1","a",null,null,null,null,null,null,null,null,null,null,null,null,null,null,null,null,null,null,null,null,null,null,null,null,null,null,null,null,null,1]